BEGIN:VCALENDAR
VERSION:2.0
PRODID:-//ChamberMaster//Event Calendar 2.0//EN
METHOD:PUBLISH
X-PUBLISHED-TTL:P3D
REFRESH-INTERVAL:P3D
CALSCALE:GREGORIAN
BEGIN:VEVENT
DTSTART:20190309T153000Z
DTEND:20190309T223000Z
X-MICROSOFT-CDO-ALLDAYEVENT:FALSE
SUMMARY:17th Annual Collaborative Health Fair
DESCRIPTION:Take advantage of FREE health screenings (valued at more than $1\,000) and family activities:   Physical Exams   Holistic Care/Meditation   Dance & Exercise\n\n \n\nFor more info contact us at info@caahealth.org or visit caahealth.org.\n\n  Community Resources & Services   Youth & Family Activities   Vendors & Exhibitors\n\n\n\nFor more info contact us at info@caahealth.org or visit caahealth.org
X-ALT-DESC;FMTTYPE=text/html:Take advantage of FREE health screenings (valued at more than $1\,000) and family activities: &bull\; Physical Exams &bull\; Holistic Care/Meditation &bull\; Dance &amp\; Exercise<br />\n&nbsp\;<br />\nFor more info contact us at info@caahealth.org or visit caahealth.org.<br />\n&bull\; Community Resources &amp\; Services &bull\; Youth &amp\; Family Activities &bull\; Vendors &amp\; Exhibitors<br />\n<br />\nFor more info contact us at info@caahealth.org or visit caahealth.org
LOCATION:Renaissance Stapleton Hotel 3801 Quebec St.\, Denver\, CO 80207
UID:e.825.3549
SEQUENCE:3
DTSTAMP:20260426T032759Z
URL:https://members.cbcc.biz/events/details/17th-annual-collaborative-health-fair-3549
END:VEVENT

END:VCALENDAR
