BEGIN:VCALENDAR
VERSION:2.0
PRODID:-//ChamberMaster//Event Calendar 2.0//EN
METHOD:PUBLISH
X-PUBLISHED-TTL:P3D
REFRESH-INTERVAL:P3D
CALSCALE:GREGORIAN
BEGIN:VEVENT
DTSTART:20161006T233000Z
DTEND:20161007T033000Z
X-MICROSOFT-CDO-ALLDAYEVENT:FALSE
SUMMARY:2016 Ascension Awards Dinner
DESCRIPTION:The Colorado Black Chamber of Commerce Annual Awards Ceremony will be held on Thursday\, October  6\, 2016. The Colorado Black Chamber of Commerce (CBCC) will present awards to deserving Colorado business and individuals for their achievements in business\, community service\, and volunteerism.\n\n\n\nBusiness Attire
X-ALT-DESC;FMTTYPE=text/html:<span style="width: 100%\; font-size: 14px\;">The Colorado Black Chamber of Commerce Annual Awards Ceremony will be held on Thursday\,&nbsp\;October&nbsp\;&nbsp\;6\, 2016. The Colorado Black Chamber of Commerce (CBCC) will present awards to deserving Colorado business and individuals for their achievements in business\, community service\, and volunteerism.</span><br />\n<br />\n<strong><span new="" style="color: black\; font-family:\;" times="">Business&nbsp\;Attire </span></strong>
LOCATION:The Ritz-Carlton 1849 Curtis Street\, Denver\, CO 80202
UID:e.825.1125
SEQUENCE:3
DTSTAMP:20260419T170818Z
URL:https://members.cbcc.biz/events/details/2016-ascension-awards-dinner-10-06-2016-1125
END:VEVENT

END:VCALENDAR
