BEGIN:VCALENDAR
VERSION:2.0
PRODID:-//ChamberMaster//Event Calendar 2.0//EN
METHOD:PUBLISH
X-PUBLISHED-TTL:P3D
REFRESH-INTERVAL:P3D
CALSCALE:GREGORIAN
BEGIN:VEVENT
DTSTART:20170418T143000Z
DTEND:20170418T213000Z
X-MICROSOFT-CDO-ALLDAYEVENT:FALSE
SUMMARY:2017 Advance Colorado Procurement Expo
DESCRIPTION:The Advance Colorado Procurement Expo is one of a kind annual event where buyers and sellers meet and learn how to do business together. Colorado procurement leaders and decision makers meet one-on-one with business owners during this premier industry event. \n\n\n\nNEW THIS YEAR!\n\n	Keynote lunch \n	VIP networking reception \n	New and improved one-on-one meetings*\n	Revamped and enhanced general sessions \n\n*Sponsors and exhibitors only
X-ALT-DESC;FMTTYPE=text/html:The Advance Colorado Procurement Expo is one of a kind annual event where buyers and sellers meet and learn how to do business together. Colorado procurement leaders and decision makers meet one-on-one with business owners during this premier industry event.&nbsp\;<br />\n<br />\nNEW THIS YEAR!\n<ul>\n	<li>Keynote lunch&nbsp\;</li>\n	<li>VIP networking reception&nbsp\;</li>\n	<li>New and improved one-on-one meetings*</li>\n	<li>Revamped and enhanced general sessions&nbsp\;</li>\n</ul>\n<span style="font-size:9px\;">*Sponsors and exhibitors only&nbsp\;</span>
LOCATION:Renaissance Stapleton\, Denver
UID:e.825.1162
SEQUENCE:3
DTSTAMP:20260420T043446Z
URL:https://members.cbcc.biz/events/details/2017-advance-colorado-procurement-expo-1162
END:VEVENT

END:VCALENDAR
