BEGIN:VCALENDAR
VERSION:2.0
PRODID:-//ChamberMaster//Event Calendar 2.0//EN
METHOD:PUBLISH
X-PUBLISHED-TTL:P3D
REFRESH-INTERVAL:P3D
CALSCALE:GREGORIAN
BEGIN:VEVENT
DTSTART:20190315T000000Z
DTEND:20190315T010000Z
X-MICROSOFT-CDO-ALLDAYEVENT:FALSE
SUMMARY:2019 Business After Hours
DESCRIPTION:Host: Asian Chamber of Commerce\n\nWhen: Thursday\, March 14\, 2019\n\nTime: 6:00 p.m. - 7:00 p.m.\n\nLocation: Charles Schwab\, 9899 Schwab Way\, Lone Tree\n\nCost: TBD\n\nClick Here for more information.
X-ALT-DESC;FMTTYPE=text/html:<strong><span style="color:black\;"><span style="font-family:tahoma\,sans-serif\;"><span style="font-size:10.5pt\;">Host</span></span></span></strong><span style="color:black\;"><span style="font-family:tahoma\,sans-serif\;"><span style="font-size:10.5pt\;">: <a href="https://links.govdelivery.com/track?type=click&amp\;enid=ZWFzPTEmbWFpbGluZ2lkPTIwMTkwMjIyLjIxMzgwMTEmbWVzc2FnZWlkPU1EQi1QUkQtQlVMLTIwMTkwMjIyLjIxMzgwMTEmZGF0YWJhc2VpZD0xMDAxJnNlcmlhbD0xNzU5MDI2MCZlbWFpbGlkPWxlZS5tYXhleUBjb2xvcmFkb2JsYWNrY2hhbWJlci5vcmcmdXNlcmlkPWxlZS5tYXhleUBjb2xvcmFkb2JsYWNrY2hhbWJlci5vcmcmZmw9JmV4dHJhPU11bHRpdmFyaWF0ZUlkPSYmJg==&amp\;&amp\;&amp\;122&amp\;&amp\;&amp\;https://www.acccolorado.org" target="_blank"><span style="color:#007EAF\;">Asian Chamber of Commerce</span></a></span></span></span><br />\n<strong><span style="color:black\;"><span style="font-family:tahoma\,sans-serif\;"><span style="font-size:10.5pt\;">When</span></span></span></strong><span style="color:black\;"><span style="font-family:tahoma\,sans-serif\;"><span style="font-size:10.5pt\;">: Thursday\, March 14\, 2019</span></span></span><br />\n<strong><span style="color:black\;"><span style="font-family:tahoma\,sans-serif\;"><span style="font-size:10.5pt\;">Time</span></span></span></strong><span style="color:black\;"><span style="font-family:tahoma\,sans-serif\;"><span style="font-size:10.5pt\;">: 6:00 p.m. - 7:00 p.m.</span></span></span><br />\n<strong><span style="color:black\;"><span style="font-family:tahoma\,sans-serif\;"><span style="font-size:10.5pt\;">Location</span></span></span></strong><span style="color:black\;"><span style="font-family:tahoma\,sans-serif\;"><span style="font-size:10.5pt\;">: Charles Schwab\, 9899 Schwab Way\, Lone Tree</span></span></span><br />\n<strong><span style="color:black\;"><span style="font-family:tahoma\,sans-serif\;"><span style="font-size:10.5pt\;">Cost</span></span></span></strong><span style="color:black\;"><span style="font-family:tahoma\,sans-serif\;"><span style="font-size:10.5pt\;">: TBD</span></span></span><br />\n<strong><span style="color:black\;"><span style="font-family:tahoma\,sans-serif\;"><span style="font-size:10.5pt\;"><a href="https://links.govdelivery.com/track?type=click&amp\;enid=ZWFzPTEmbWFpbGluZ2lkPTIwMTkwMjIyLjIxMzgwMTEmbWVzc2FnZWlkPU1EQi1QUkQtQlVMLTIwMTkwMjIyLjIxMzgwMTEmZGF0YWJhc2VpZD0xMDAxJnNlcmlhbD0xNzU5MDI2MCZlbWFpbGlkPWxlZS5tYXhleUBjb2xvcmFkb2JsYWNrY2hhbWJlci5vcmcmdXNlcmlkPWxlZS5tYXhleUBjb2xvcmFkb2JsYWNrY2hhbWJlci5vcmcmZmw9JmV4dHJhPU11bHRpdmFyaWF0ZUlkPSYmJg==&amp\;&amp\;&amp\;123&amp\;&amp\;&amp\;https://www.acccolorado.org" target="_blank"><span style="color:#007EAF\;">Click Here</span></a> for more information.</span></span></span></strong><br />\n&nbsp\;
LOCATION:Location: Charles Schwab\, 9899 Schwab Way\, Lone Tree
UID:e.825.3633
SEQUENCE:3
DTSTAMP:20260426T015421Z
URL:https://members.cbcc.biz/events/details/2019-business-after-hours-3633
END:VEVENT

END:VCALENDAR
