BEGIN:VCALENDAR
VERSION:2.0
PRODID:-//ChamberMaster//Event Calendar 2.0//EN
METHOD:PUBLISH
X-PUBLISHED-TTL:P3D
REFRESH-INTERVAL:P3D
CALSCALE:GREGORIAN
BEGIN:VEVENT
DTSTART:20190427T140000Z
DTEND:20190427T200000Z
X-MICROSOFT-CDO-ALLDAYEVENT:FALSE
SUMMARY:21st Annual EspeciallyMe™ High School Conference
DESCRIPTION:21st Annual EspeciallyMe  High School Conference\n\nFocusing on African American High School Young Ladies Grades 9-12\n\nSaturday\, April 27\, 2019\n\nOverland High School\n\n9am   2pm (sign in begins at 8am)
X-ALT-DESC;FMTTYPE=text/html:<p>21st Annual EspeciallyMe&trade\; High School Conference<br />\nFocusing on African American High School Young Ladies Grades 9-12</p>\n\n<p>Saturday\, April 27\, 2019<br />\nOverland High School<br />\n<span class="text_exposed_show">9am &ndash\; 2pm (sign in begins at 8am)</span></p>\n
LOCATION:Overland High School 12400 E Jewell Ave\, Aurora\, CO 80012
UID:e.825.3545
SEQUENCE:3
DTSTAMP:20260426T002808Z
URL:https://members.cbcc.biz/events/details/21st-annual-especiallyme-high-school-conference-3545
END:VEVENT

END:VCALENDAR
