BEGIN:VCALENDAR
VERSION:2.0
PRODID:-//ChamberMaster//Event Calendar 2.0//EN
METHOD:PUBLISH
X-PUBLISHED-TTL:P3D
REFRESH-INTERVAL:P3D
CALSCALE:GREGORIAN
BEGIN:VEVENT
DTSTART:20140516T133000Z
DTEND:20140516T150000Z
X-MICROSOFT-CDO-ALLDAYEVENT:FALSE
SUMMARY:7th Annual Friends of Manual Breakfast
DESCRIPTION:Friends of Manual\, a local 501c(3) nonprofit is hosting there 7th Annual Breakfast on May 16\, 2014. The event will celebrate Manual High School?s 120th Anniversary and will highlight exceptional teachers and students from Manual. Breakfast (and coffee) will be provided by Bliss Catering. All funds go to support Manual High and providing scholarships for MHS students. Registration is free and easy! Simply visit www.friendsofmanual.org/events
X-ALT-DESC;FMTTYPE=text/html:Friends of Manual\, a local 501c(3) nonprofit is hosting there 7th Annual Breakfast on May 16\, 2014. The event will celebrate Manual High School?s 120th Anniversary and will highlight exceptional teachers and students from Manual. Breakfast (and coffee) will be provided by Bliss Catering. All funds go to support Manual High and providing scholarships for MHS students. Registration is free and easy! Simply visit www.friendsofmanual.org/events
LOCATION:MHS Thunderdome 1700 East 28th Avenue\, Denver\, CO\, 80205
UID:e.825.974
SEQUENCE:3
DTSTAMP:20260421T101336Z
URL:https://members.cbcc.biz/events/details/7th-annual-friends-of-manual-breakfast-05-16-2014-974
END:VEVENT

END:VCALENDAR
