BEGIN:VCALENDAR
VERSION:2.0
PRODID:-//ChamberMaster//Event Calendar 2.0//EN
METHOD:PUBLISH
X-PUBLISHED-TTL:P3D
REFRESH-INTERVAL:P3D
CALSCALE:GREGORIAN
BEGIN:VEVENT
DTSTART:20170412T143000Z
DTEND:20170412T163000Z
X-MICROSOFT-CDO-ALLDAYEVENT:FALSE
SUMMARY:A Conversation with Successful DPS Contractors
DESCRIPTION:Hear tips for success from Black-owned businesses that have won contracts with DPS. These small business owners will share their insight on working with the District.
X-ALT-DESC;FMTTYPE=text/html:Hear tips for success from Black-owned businesses that have won contracts with DPS. These small business owners will share their insight on working with the District.
LOCATION:Denver Public Schools 1617 S. Acoma Street
UID:e.825.1165
SEQUENCE:3
DTSTAMP:20260419T193224Z
URL:https://members.cbcc.biz/events/details/a-conversation-with-successful-dps-contractors-1165
END:VEVENT

END:VCALENDAR
