BEGIN:VCALENDAR
VERSION:2.0
PRODID:-//ChamberMaster//Event Calendar 2.0//EN
METHOD:PUBLISH
X-PUBLISHED-TTL:P3D
REFRESH-INTERVAL:P3D
CALSCALE:GREGORIAN
BEGIN:VEVENT
DTSTART:20190225T200000Z
DTEND:20190225T210000Z
X-MICROSOFT-CDO-ALLDAYEVENT:FALSE
SUMMARY:African Americans in the West
DESCRIPTION:Terri Gentry\, volunteer docent at the Black American West Museum\, highlights the westward migration of African Americans and the significant contributions of black cowboys\, educators\, entrepreneurs\, homesteaders\, miners and medical and military trailblazers in US history.
X-ALT-DESC;FMTTYPE=text/html:<div class="intro__content">\n<p>Terri Gentry\, volunteer docent at the Black American West Museum\, highlights the westward migration of African Americans and the significant contributions of black cowboys\, educators\, entrepreneurs\, homesteaders\, miners and medical and military trailblazers in US history.</p>\n</div>\n\n<div class="l__secondary">\n<div class="section--tight">\n<aside class="cta-peak">\n<div class="cta-peak__content">&nbsp\;</div>\n</aside>\n</div>\n</div>\n
LOCATION:1200 N Broadway\, Denver\, CO 80203
UID:e.825.3583
SEQUENCE:3
DTSTAMP:20260426T032127Z
URL:https://members.cbcc.biz/events/details/african-americans-in-the-west-3583
END:VEVENT

END:VCALENDAR
