BEGIN:VCALENDAR
VERSION:2.0
PRODID:-//ChamberMaster//Event Calendar 2.0//EN
METHOD:PUBLISH
X-PUBLISHED-TTL:P3D
REFRESH-INTERVAL:P3D
CALSCALE:GREGORIAN
BEGIN:VEVENT
DTSTART:20220114T173000Z
DTEND:20220114T190000Z
X-MICROSOFT-CDO-ALLDAYEVENT:FALSE
SUMMARY:Alzheimer's Association - Dementia Conversations Driving\, Doctor Visits\, Legal & Financial Planning
DESCRIPTION:LIVE/INTERACTIVE WEBINAR
X-ALT-DESC;FMTTYPE=text/html:<span style="color: rgb(12\, 101\, 171)\; font-family: Arial\, Helvetica\, sans-serif\; font-size: 14px\; font-weight: 700\; text-align: right\; background-color: rgb(255\, 255\, 255)\;">LIVE/INTERACTIVE WEBINAR</span>
LOCATION:
UID:e.825.4293
SEQUENCE:3
DTSTAMP:20260421T202628Z
URL:https://members.cbcc.biz/events/details/alzheimer-s-association-dementia-conversations-driving-doctor-visits-legal-financial-planning-4293
END:VEVENT

END:VCALENDAR
