BEGIN:VCALENDAR
VERSION:2.0
PRODID:-//ChamberMaster//Event Calendar 2.0//EN
METHOD:PUBLISH
X-PUBLISHED-TTL:P3D
REFRESH-INTERVAL:P3D
CALSCALE:GREGORIAN
BEGIN:VEVENT
DTSTART:20201017T160000Z
DTEND:20201017T180000Z
X-MICROSOFT-CDO-ALLDAYEVENT:FALSE
SUMMARY:"An Investment In The Black Community and Black Business Is An Investment In Colorado"
DESCRIPTION:AGENDA\n\n*CBRT & CBCC Joint Social Equity Business Initiative\n\n "Black Economic Opportunities Coalition: Beyond The Pandemics - Awareness & Access"\n\n \n\n**Remarks from John Harmon\, Member\, US Chamber Committee on Unequal Opportunity and President & CEO\, African American Chamber of New Jersey\n\n \n\n***Panel Discussion on "Social Equity In Colorado & Corporate Responsibility" with\n\n Elected Officials\, Corporate CEO's\, Chamber Executives\, Media \n\nand Black Business Leaders\n\n \n\nConcerned Citizens Can Join 1f
X-ALT-DESC;FMTTYPE=text/html:<strong><em><span style="font-family:georgia\,serif\;"><span style="font-size:14.5pt\;">AGENDA</span></span></em></strong><br />\n<span style="color:black\;"><span style="font-family:georgia\,serif\;"><span style="font-size:13.0pt\;">*CBRT &amp\; CBCC Joint Social Equity Business Initiative</span></span></span><br />\n<strong><span style="font-family:georgia\,serif\;"><span style="font-size:13.0pt\;">&nbsp\;&quot\;Black Economic&nbsp\;Opportunities Coalition: Beyond The Pandemics - Awareness &amp\; Access&quot\;</span></span></strong><br />\n&nbsp\;<br />\n<span style="color:black\;"><span style="font-family:georgia\,serif\;"><span style="font-size:13.0pt\;">**Remarks from John Harmon\, Member\, US Chamber Committee on Unequal Opportunity and President &amp\; CEO\, African American Chamber of New Jersey</span></span></span><br />\n&nbsp\;<br />\n<span style="color:black\;"><span style="font-family:georgia\,serif\;"><span style="font-size:13.0pt\;">***Panel Discussion on &quot\;Social Equity In&nbsp\;Colorado &amp\; Corporate Responsibility&quot\; with</span></span></span><br />\n<span style="color:black\;"><span style="font-family:georgia\,serif\;"><span style="font-size:13.0pt\;">&nbsp\;Elected Officials\, Corporate&nbsp\;CEO&#39\;s\, Chamber Executives\, Media </span></span></span><br />\n<span style="color:black\;"><span style="font-family:georgia\,serif\;"><span style="font-size:13.0pt\;">and Black Business Leaders</span></span></span><br />\n&nbsp\;<br />\n<strong><span style="color:black\;"><span style="font-size:13.0pt\;">Concerned Citizens Can Join </span></span></strong><span style="color:black\;"><span style="font-family:times new roman\,serif\;"><span style="font-size:11.5pt\;"><a href="https://click.icptrack.com/icp/relay.php?r=45055959&amp\;msgid=429864&amp\;act=HU89&amp\;c=1315929&amp\;destination=https%3A%2F%2Fus02web.zoom.us%2Fu%2FkrTdTzf1f&amp\;cf=5690&amp\;v=7f2c16411726ef249a3bb95fbcbd3c4959fdd0994aaff77cde41a7a5edf26aac"><span style="color:#333333\;">1f</span></a></span></span></span>
LOCATION:10/17 only Zoom Meeting https://us02web.zoom.us/j/85499619674?pwd=Q2dNUmtueDVoMG1pdDRnTUpXRHdrdz09 Meeting ID: 854 9961 9674 Passcode: 786759
UID:e.825.3923
SEQUENCE:3
DTSTAMP:20260424T165903Z
URL:https://members.cbcc.biz/events/details/an-investment-in-the-black-community-and-black-business-is-an-investment-in-colorado-3923
END:VEVENT

END:VCALENDAR
