BEGIN:VCALENDAR
VERSION:2.0
PRODID:-//ChamberMaster//Event Calendar 2.0//EN
METHOD:PUBLISH
X-PUBLISHED-TTL:P3D
REFRESH-INTERVAL:P3D
CALSCALE:GREGORIAN
BEGIN:VEVENT
DTSTART:20140131T200000Z
DTEND:20140131T210000Z
X-MICROSOFT-CDO-ALLDAYEVENT:FALSE
SUMMARY:Annual Awards Gala Committee Meeting
DESCRIPTION:The Annual Awards Gala is a remarkable black tie event. The CBCC Ascension Awards Gala highlights leading black businesses from across the state. You'll love being a part of this Committee.
X-ALT-DESC;FMTTYPE=text/html:The Annual Awards Gala is a remarkable black tie event. The CBCC&nbsp\;Ascension Awards Gala highlights leading black businesses from across the state.&nbsp\;<span _mce_style="font-family: Arial\, Helvetica\, sans-serif\; font-size: 13px\; background-color: #ffffff\;" style="font-family: Arial\, Helvetica\, sans-serif\; font-size: 13px\; background-color: rgb(255\, 255\, 255)\;">You&#39\;ll love being&nbsp\;a part of this Committee.</span>
LOCATION:1410 Grant Street\, Suite B104 Denver\, CO 80203
UID:e.825.925
SEQUENCE:3
DTSTAMP:20260419T204454Z
URL:https://members.cbcc.biz/events/details/annual-awards-gala-committee-meeting-01-31-2014-925
END:VEVENT

END:VCALENDAR
