BEGIN:VCALENDAR
VERSION:2.0
PRODID:-//ChamberMaster//Event Calendar 2.0//EN
METHOD:PUBLISH
X-PUBLISHED-TTL:P3D
REFRESH-INTERVAL:P3D
CALSCALE:GREGORIAN
BEGIN:VEVENT
DTSTART:20190817T160000Z
DTEND:20190817T190000Z
X-MICROSOFT-CDO-ALLDAYEVENT:FALSE
SUMMARY:ANNUAL SERVICE TO THE ARMED FORCES NEW MOMS IN THE MILITARY BABY SHOWER
DESCRIPTION:August 17\, 2019\n\nTime:   10:00 AM   1:00 PM\n\nLocation:  VA Hospital Main Auditorium 1700 N. Wheeling Drive\, Aurora CO  80045\n\nWho:  Ladies interested in supporting women in the military\n\nRSVP:  By August 13 to daneil.mulhern@redcross.org or 303-604-4746\n\n \n\nCelebrate with the Tiffany Circle and the Service to Armed Forces.\n\nNew moms need a lot and we want to help.  Please join the women of the Tiffany Circle for diaper bag gift building\, refreshments and life experiences from military mothers at the new Denver VA Hospital.\n\nThe American Red Cross is registered on Amazon to create diaper bags full of useful items for each new VA mom.  A bag with one of each item on the registry is $75.00.  We encourage each guest to purchase an entire bag or several bags of these items to guarantee that each new mom diaper bag will be complete for giving.  Items can be shipped to you to bring to the shower or directly to our office.   www.amazon.com/babyregistry search for American Red Cross.\n\nEach diaper bag will be finished with a bright red cross bow and a personal note from you with new mom wisdom or words of encouragement
X-ALT-DESC;FMTTYPE=text/html:August 17\, 2019<br />\nTime:&nbsp\;&nbsp\; 10:00 AM &ndash\; 1:00 PM<br />\nLocation:&nbsp\; VA Hospital Main Auditorium 1700 N. Wheeling Drive\, Aurora CO&nbsp\; 80045<br />\nWho:&nbsp\; Ladies interested in supporting women in the military<br />\nRSVP:&nbsp\; By August 13 to daneil.mulhern@redcross.org or 303-604-4746<br />\n&nbsp\;<br />\nCelebrate with the Tiffany Circle and the Service to Armed Forces.<br />\nNew moms need a lot and we want to help.&nbsp\; Please join the women of the Tiffany Circle for diaper bag gift building\, refreshments and life experiences from military mothers at the new Denver VA Hospital.<br />\nThe American Red Cross is registered on Amazon to create diaper bags full of useful items for each new VA mom.&nbsp\; A bag with one of each item on the registry is $75.00.&nbsp\; We encourage each guest to purchase an entire bag or several bags of these items to guarantee that each new mom diaper bag will be complete for giving.&nbsp\; Items can be shipped to you to bring to the shower or directly to our office.&nbsp\;&nbsp\; www.amazon.com/babyregistry search for American Red Cross.<br />\nEach diaper bag will be finished with a bright red cross bow and a personal note from you with new mom wisdom or words of encouragement
LOCATION:VA Hospital Main Auditorium 1700 N. Wheeling Drive\, Aurora CO 80045
UID:e.825.3878
SEQUENCE:3
DTSTAMP:20260425T201336Z
URL:https://members.cbcc.biz/events/details/annual-service-to-the-armed-forces-new-moms-in-the-military-baby-shower-3878
END:VEVENT

END:VCALENDAR
