BEGIN:VCALENDAR
VERSION:2.0
PRODID:-//ChamberMaster//Event Calendar 2.0//EN
METHOD:PUBLISH
X-PUBLISHED-TTL:P3D
REFRESH-INTERVAL:P3D
CALSCALE:GREGORIAN
BEGIN:VEVENT
DTSTART:20190313T213000Z
DTEND:20190314T003000Z
X-MICROSOFT-CDO-ALLDAYEVENT:FALSE
SUMMARY:Auraria Campus Diversity Networking Event
DESCRIPTION:The event presents the opportunity for students to expand their social\n\nand professional connections\n\nKEYNOTE SPEAKER:\n\nRepresentative Leslie Herod\n\nPANEL MODERATOR:\n\nDr. Brenda J. Allen\, CU Denver\n\nand Anschutz Medical Campus\n\nVice Chancellor of Diversity &\n\nInclusion\n\n\n\nAPPETIZERS AND DINNER\n\nWILL BE SERVED
X-ALT-DESC;FMTTYPE=text/html:The event presents the opportunity for&nbsp\;students to expand their social<br />\nand professional connections<br />\nKEYNOTE SPEAKER:<br />\nRepresentative Leslie Herod<br />\nPANEL MODERATOR:<br />\nDr. Brenda J. Allen\, CU Denver<br />\nand Anschutz Medical Campus<br />\nVice Chancellor of Diversity &amp\;<br />\nInclusion<br />\n<br />\nAPPETIZERS AND DINNER<br />\nWILL BE SERVED
LOCATION:TIVOLI STUDENT UNION ROOM 320 900 Auraria PKWY Denver\, CO 80204
UID:e.825.3587
SEQUENCE:3
DTSTAMP:20260426T031915Z
URL:https://members.cbcc.biz/events/details/auraria-campus-diversity-networking-event-3587
END:VEVENT

END:VCALENDAR
