BEGIN:VCALENDAR
VERSION:2.0
PRODID:-//ChamberMaster//Event Calendar 2.0//EN
METHOD:PUBLISH
X-PUBLISHED-TTL:P3D
REFRESH-INTERVAL:P3D
CALSCALE:GREGORIAN
BEGIN:VEVENT
DTSTART:20190312T230000Z
DTEND:20190313T010000Z
X-MICROSOFT-CDO-ALLDAYEVENT:FALSE
SUMMARY:BCG Monthly Meeting
DESCRIPTION:The March meeting will discuss Airport opportunities with Flat Iron Construction and Denver International Airport\n\nHost: Black Construction Group of the Colorado Black Chamber of Commerce\n\nWhen: Tuesday\, March 12\, 2019\n\nTime: 5:00 p.m. - 7:00 p.m.\n\nLocation: Learning Center\, 3975 Martin Luther King Blvd\, Denver\n\nCost: Free for members\, $10 general public\n\nClick here for more information.
X-ALT-DESC;FMTTYPE=text/html:<span style="color:black\;"><span style="font-family:tahoma\,sans-serif\;"><span style="font-size:10.5pt\;">The March meeting will discuss Airport opportunities with Flat Iron Construction and Denver International Airport</span></span></span><br />\n<strong><span style="color:black\;"><span style="font-family:tahoma\,sans-serif\;"><span style="font-size:10.5pt\;">Host</span></span></span></strong><span style="color:black\;"><span style="font-family:tahoma\,sans-serif\;"><span style="font-size:10.5pt\;">: <a href="https://links.govdelivery.com/track?type=click&amp\;enid=ZWFzPTEmbWFpbGluZ2lkPTIwMTkwMjIyLjIxMzgwMTEmbWVzc2FnZWlkPU1EQi1QUkQtQlVMLTIwMTkwMjIyLjIxMzgwMTEmZGF0YWJhc2VpZD0xMDAxJnNlcmlhbD0xNzU5MDI2MCZlbWFpbGlkPWxlZS5tYXhleUBjb2xvcmFkb2JsYWNrY2hhbWJlci5vcmcmdXNlcmlkPWxlZS5tYXhleUBjb2xvcmFkb2JsYWNrY2hhbWJlci5vcmcmZmw9JmV4dHJhPU11bHRpdmFyaWF0ZUlkPSYmJg==&amp\;&amp\;&amp\;118&amp\;&amp\;&amp\;https://www.coloradoblackchamber.org/black-construction-group" target="_blank"><span style="color:#007EAF\;">Black Construction Group of the Colorado Black Chamber of Commerce</span></a></span></span></span><br />\n<strong><span style="color:black\;"><span style="font-family:tahoma\,sans-serif\;"><span style="font-size:10.5pt\;">When</span></span></span></strong><span style="color:black\;"><span style="font-family:tahoma\,sans-serif\;"><span style="font-size:10.5pt\;">: Tuesday\, March 12\, 2019</span></span></span><br />\n<strong><span style="color:black\;"><span style="font-family:tahoma\,sans-serif\;"><span style="font-size:10.5pt\;">Time</span></span></span></strong><span style="color:black\;"><span style="font-family:tahoma\,sans-serif\;"><span style="font-size:10.5pt\;">: 5:00 p.m. - 7:00 p.m.</span></span></span><br />\n<strong><span style="color:black\;"><span style="font-family:tahoma\,sans-serif\;"><span style="font-size:10.5pt\;">Location</span></span></span></strong><span style="color:black\;"><span style="font-family:tahoma\,sans-serif\;"><span style="font-size:10.5pt\;">: Learning Center\, 3975 Martin Luther King Blvd\, Denver</span></span></span><br />\n<strong><span style="color:black\;"><span style="font-family:tahoma\,sans-serif\;"><span style="font-size:10.5pt\;">Cost</span></span></span></strong><span style="color:black\;"><span style="font-family:tahoma\,sans-serif\;"><span style="font-size:10.5pt\;">: Free for members\, $10 general public</span></span></span><br />\n<strong><span style="color:black\;"><span style="font-family:tahoma\,sans-serif\;"><span style="font-size:10.5pt\;"><a href="https://links.govdelivery.com/track?type=click&amp\;enid=ZWFzPTEmbWFpbGluZ2lkPTIwMTkwMjIyLjIxMzgwMTEmbWVzc2FnZWlkPU1EQi1QUkQtQlVMLTIwMTkwMjIyLjIxMzgwMTEmZGF0YWJhc2VpZD0xMDAxJnNlcmlhbD0xNzU5MDI2MCZlbWFpbGlkPWxlZS5tYXhleUBjb2xvcmFkb2JsYWNrY2hhbWJlci5vcmcmdXNlcmlkPWxlZS5tYXhleUBjb2xvcmFkb2JsYWNrY2hhbWJlci5vcmcmZmw9JmV4dHJhPU11bHRpdmFyaWF0ZUlkPSYmJg==&amp\;&amp\;&amp\;119&amp\;&amp\;&amp\;https://www.coloradoblackchamber.org/black-construction-group" target="_blank"><span style="color:#007EAF\;">Click here</span></a> for more information.</span></span></span></strong><br />\n&nbsp\;
LOCATION:Clayton Early Learning Center\, 3975 Martin Luther King Blvd\, Denver
UID:e.825.3631
SEQUENCE:3
DTSTAMP:20260426T032012Z
URL:https://members.cbcc.biz/events/details/bcg-monthly-meeting-3631
END:VEVENT

END:VCALENDAR
