BEGIN:VCALENDAR
VERSION:2.0
PRODID:-//ChamberMaster//Event Calendar 2.0//EN
METHOD:PUBLISH
X-PUBLISHED-TTL:P3D
REFRESH-INTERVAL:P3D
CALSCALE:GREGORIAN
BEGIN:VEVENT
DTSTART:20201111T000000Z
DTEND:20201111T020000Z
X-MICROSOFT-CDO-ALLDAYEVENT:FALSE
SUMMARY:"BE THE CHANGE WE WANT TO SEE" POLICE - BLACK COMMUNITY RELATIONS IN DENVER ZOOM DISCUSSION
DESCRIPTION:Colorado Black Round Table invites you to \n\n"Be the Change We Want to See"\n\nPolice - Black Community Relations in Denver \n\nZOOM DISCUSSION\n\nAGENDA INCLUDES:\n\nRemarks\n\n-Murphy Robinson\, Denver Executive Director of Public Safety\n\n-Paul Pazen\, Denver Police Chief\n\n-Detective Nick Rogers\, President\, Denver Police Union\n\n-Sgt. Carla Havard\, President\, Black Police Officers Organization\n\n-Al Gardner\, Chair\, Denver Citizens Oversight Board (COB)\n\n-Black Police Officers Community Response Panel\n\n-Pastor Del Phillips\, Convener\, Colorado Black Leadership Caucus\n\n-Dr. Robert L. Davis\, Director\, Seasoned With Grace UnBoxed\n\n-Alfonzo Porter\, Editor\, Denver Spectrum Magazine
X-ALT-DESC;FMTTYPE=text/html:Colorado Black Round Table invites you to&nbsp\;<br />\n<strong style="color: rgb(51\, 51\, 51)\; font-family: sans-serif\, Arial\, Verdana\, &quot\;Trebuchet MS&quot\;\; font-size: 13px\;"><span style="color: rgb(240\, 22\, 14)\;"><span style="font-family: georgia\, serif\;"><span style="font-size: 18pt\;">&quot\;Be the Change We Want to See&quot\;</span></span></span></strong><br />\n<strong><span style="color:black\;"><span style="font-family:georgia\,serif\;"><span style="font-size:15.0pt\;">Police - Black Community Relations in Denver&nbsp\;<br />\nZOOM DISCUSSION</span></span></span></strong><br />\n<em><strong><span style="color:black\;"><span style="font-family:georgia\,serif\;"><span style="font-size:12.0pt\;">AGENDA INCLUDES:</span></span></span></strong></em><br />\n<span style="color:black\;"><span style="font-family:georgia\,serif\;"><span style="font-size:12.0pt\;">Remarks</span></span></span><br />\n<span style="color:black\;"><span style="font-family:georgia\,serif\;"><span style="font-size:12.0pt\;">-Murphy Robinson\, Denver Executive Director of Public Safety</span></span></span><br />\n<span style="color:black\;"><span style="font-family:georgia\,serif\;"><span style="font-size:12.0pt\;">-Paul Pazen\, Denver Police Chief</span></span></span><br />\n<span style="color:black\;"><span style="font-family:georgia\,serif\;"><span style="font-size:12.0pt\;">-Detective Nick Rogers\, President\, Denver Police Union</span></span></span><br />\n<span style="color:black\;"><span style="font-family:georgia\,serif\;"><span style="font-size:12.0pt\;">-Sgt. Carla Havard\, President\, Black Police Officers Organization</span></span></span><br />\n<span style="color:black\;"><span style="font-family:georgia\,serif\;"><span style="font-size:12.0pt\;">-Al Gardner\, Chair\, Denver Citizens Oversight Board (COB)</span></span></span><br />\n<span style="color:black\;"><span style="font-family:georgia\,serif\;"><span style="font-size:12.0pt\;">-Black Police Officers Community Response Panel</span></span></span><br />\n<span style="color:black\;"><span style="font-family:georgia\,serif\;"><span style="font-size:12.0pt\;">-Pastor Del Phillips\, Convener\, Colorado Black Leadership Caucus</span></span></span><br />\n<span style="color:black\;"><span style="font-family:georgia\,serif\;"><span style="font-size:12.0pt\;">-Dr. Robert L. Davis\, Director\, Seasoned With Grace UnBoxed</span></span></span><br />\n<span style="color:black\;"><span style="font-family:georgia\,serif\;"><span style="font-size:12.0pt\;">-Alfonzo Porter\, Editor\, Denver Spectrum Magazine</span></span></span>
LOCATION:https://us02web.zoom.us/j/86147794031?pwd=UjNqUG5iWTRSZGo2MkY0QU5uaUUvQT09 Meeting ID: 861 4779 4031 Passcode: 347603
UID:e.825.3934
SEQUENCE:3
DTSTAMP:20260424T152458Z
URL:https://members.cbcc.biz/events/details/be-the-change-we-want-to-see-police-black-community-relations-in-denver-zoom-discussion-3934
END:VEVENT

END:VCALENDAR
