BEGIN:VCALENDAR
VERSION:2.0
PRODID:-//ChamberMaster//Event Calendar 2.0//EN
METHOD:PUBLISH
X-PUBLISHED-TTL:P3D
REFRESH-INTERVAL:P3D
CALSCALE:GREGORIAN
BEGIN:VEVENT
DTSTART;VALUE=DATE:20190202
DTEND;VALUE=DATE:20190203
TRANSP:TRANSPARENT
X-MICROSOFT-CDO-ALLDAYEVENT:TRUE
SUMMARY:Black Dollar Saturdays @ Brother Jeff's
DESCRIPTION:FREE - 2836 Welton\n\nDenver\, CO 80205
X-ALT-DESC;FMTTYPE=text/html:FREE - 2836 Welton<br>\nDenver\, CO 80205
LOCATION:
UID:e.825.1321
SEQUENCE:3
DTSTAMP:20260426T032134Z
URL:https://members.cbcc.biz/events/details/black-dollar-saturdays-brother-jeff-s-02-02-2019-1321
END:VEVENT

END:VCALENDAR
