BEGIN:VCALENDAR
VERSION:2.0
PRODID:-//ChamberMaster//Event Calendar 2.0//EN
METHOD:PUBLISH
X-PUBLISHED-TTL:P3D
REFRESH-INTERVAL:P3D
CALSCALE:GREGORIAN
BEGIN:VEVENT
DTSTART:20190209T003000Z
DTEND:20190209T023000Z
X-MICROSOFT-CDO-ALLDAYEVENT:FALSE
SUMMARY:Black History Month Community Music & Poetry Night
DESCRIPTION:Join us for a night of poetry and music to celebrate the community with LC Houston\, MUSIC For The CAUSE\, and Kevin C. Mitchell. The evening is cosponsored by the Pueblo NAACP. \n\nThis event is FREE and open to the public. Light refreshments provided.
X-ALT-DESC;FMTTYPE=text/html:<span style="background:white\;"><span style="color:#333333\;"><span style="font-family:arial\,sans-serif\;"><span style="font-size:10.0pt\;">Join us for a night of poetry and music to celebrate the community with LC Houston\, MUSIC For The CAUSE\, and Kevin C. Mitchell. The evening is cosponsored by the Pueblo NAACP. </span></span></span></span><br />\n<span style="background:white\;"><span style="color:#333333\;"><span style="font-family:arial\,sans-serif\;"><span style="font-size:10.0pt\;">This event is </span></span></span></span><strong><span style="background:white\;"><span style="color:#FF9900\;"><span style="font-family:arial\,sans-serif\;"><span style="font-size:10.0pt\;">FREE</span></span></span></span></strong><span style="background:white\;"><span style="color:#333333\;"><span style="font-family:arial\,sans-serif\;"><span style="font-size:10.0pt\;"> and open to the public. Light refreshments provided.</span></span></span></span>
LOCATION:El Pueblo History Museum 301 N Union Ave\, Pueblo\, CO 81003 719-583-0453
UID:e.825.3584
SEQUENCE:3
DTSTAMP:20260426T032251Z
URL:https://members.cbcc.biz/events/details/black-history-month-community-music-poetry-night-3584
END:VEVENT

END:VCALENDAR
