BEGIN:VCALENDAR
VERSION:2.0
PRODID:-//ChamberMaster//Event Calendar 2.0//EN
METHOD:PUBLISH
X-PUBLISHED-TTL:P3D
REFRESH-INTERVAL:P3D
CALSCALE:GREGORIAN
BEGIN:VEVENT
DTSTART:20190301T020000Z
DTEND:20190301T040000Z
X-MICROSOFT-CDO-ALLDAYEVENT:FALSE
SUMMARY:Black Music Matters 2.0
DESCRIPTION:The Vocal Coalition who affirm the inherent dignity in all cultures and their musical manifestations by supporting young musicians are presenting a special atrium concert featuring students and other local contemporary musicians. Back by popular demand and curated by Denver gospel quartet Spirit of Grace\, Black Music Matters 2.0 tells the story of the black experience from Africa to Colorado through music\, narration\, dance\, and more.
X-ALT-DESC;FMTTYPE=text/html:<span style="color:#333333\;"><span style="font-family:arial\,sans-serif\;"><span style="font-size:10.5pt\;">The Vocal Coalition&mdash\;who affirm the inherent dignity in all cultures and their musical manifestations by supporting young musicians&mdash\;are presenting a special atrium concert featuring students and other local contemporary musicians. Back by popular demand and curated by Denver gospel quartet Spirit of Grace\, Black Music Matters 2.0 tells the story of the black experience from Africa to Colorado through music\, narration\, dance\, and more.</span></span></span>
LOCATION:1200 N Broadway\, Denver\, CO 80203 Atrium
UID:e.825.3582
SEQUENCE:3
DTSTAMP:20260426T031951Z
URL:https://members.cbcc.biz/events/details/black-music-matters-2-0-3582
END:VEVENT

END:VCALENDAR
