BEGIN:VCALENDAR
VERSION:2.0
PRODID:-//ChamberMaster//Event Calendar 2.0//EN
METHOD:PUBLISH
X-PUBLISHED-TTL:P3D
REFRESH-INTERVAL:P3D
CALSCALE:GREGORIAN
BEGIN:VEVENT
DTSTART:20170321T143000Z
DTEND:20170321T163000Z
X-MICROSOFT-CDO-ALLDAYEVENT:FALSE
SUMMARY:Breakfast at the Federal Reserve-2017 Emerging Economic Trends
DESCRIPTION:Go inside Denver's Federal Reserve Bank and hear what economic trends officials see for 2017. Alison Felix is vice president and Denver Branch executive at the Kansas City Fed. She serves as the Bank's lead officer and regional economist.  \n\n\n\nFEDERAL RESERVE SECURITY POLICIES REQUIRE ADVANCE REGISTRATION BY THURSDAY\, MARCH 16\n\n\n\nSeating is limited.
X-ALT-DESC;FMTTYPE=text/html:<span style="font-size:12px\;"><span style="font-family:arial\;"><span style="text-align: -webkit-center\; background-color: rgb(255\, 255\, 255)\;">Go inside Denver&#39\;s Federal Reserve Bank and hear what economic trends officials see for 2017. Alison Felix is vice president and Denver Branch executive at the Kansas City Fed. She serves as the Bank&#39\;s lead officer and regional economist. &nbsp\;<br />\n<br />\nFEDERAL RESERVE SECURITY POLICIES REQUIRE ADVANCE REGISTRATION BY THURSDAY\, MARCH 16<br />\n<br />\nSeating is limited.&nbsp\;</span></span></span>
LOCATION:Federal Reserve 1020 16th Street Denver\, CO 80202
UID:e.825.1158
SEQUENCE:3
DTSTAMP:20260423T172829Z
URL:https://members.cbcc.biz/events/details/breakfast-at-the-federal-reserve-2017-emerging-economic-trends-1158
END:VEVENT

END:VCALENDAR
