BEGIN:VCALENDAR
VERSION:2.0
PRODID:-//ChamberMaster//Event Calendar 2.0//EN
METHOD:PUBLISH
X-PUBLISHED-TTL:P3D
REFRESH-INTERVAL:P3D
CALSCALE:GREGORIAN
BEGIN:VEVENT
DTSTART:20190314T213000Z
DTEND:20190315T003000Z
X-MICROSOFT-CDO-ALLDAYEVENT:FALSE
SUMMARY:Breaking the Glass Ceiling for Businesses to Compete
DESCRIPTION:Please join the Minority & Women's Chamber Coalition and diverse chambers from across the Denver-metro area for a memorable evening featuring a panel discussion on Breaking the Glass Ceiling for Businesses to Compete and an around-the-world themed cocktail and art reception showcasing works by local & national artists. Hosted by Charles Schwab.\n\nHost: Minority & Women's Chamber Coalition
X-ALT-DESC;FMTTYPE=text/html:<span style="color:black\;"><span style="font-family:tahoma\,sans-serif\;"><span style="font-size:10.5pt\;">Please join the Minority &amp\; Women&rsquo\;s Chamber Coalition and diverse chambers from across the Denver-metro area for a memorable evening featuring a panel discussion on&nbsp\;<strong><span style="font-family:tahoma\,sans-serif\;">Breaking the Glass Ceiling for Businesses to Compete</span></strong>&nbsp\;and an around-the-world themed cocktail and art reception showcasing works by local &amp\; national artists. Hosted by Charles Schwab.</span></span></span><br />\n<strong><span style="color:black\;"><span style="font-family:tahoma\,sans-serif\;"><span style="font-size:10.5pt\;">Host</span></span></span></strong><span style="color:black\;"><span style="font-family:tahoma\,sans-serif\;"><span style="font-size:10.5pt\;">: <a href="https://links.govdelivery.com/track?type=click&amp\;enid=ZWFzPTEmbWFpbGluZ2lkPTIwMTkwMjIyLjIxMzgwMTEmbWVzc2FnZWlkPU1EQi1QUkQtQlVMLTIwMTkwMjIyLjIxMzgwMTEmZGF0YWJhc2VpZD0xMDAxJnNlcmlhbD0xNzU5MDI2MCZlbWFpbGlkPWxlZS5tYXhleUBjb2xvcmFkb2JsYWNrY2hhbWJlci5vcmcmdXNlcmlkPWxlZS5tYXhleUBjb2xvcmFkb2JsYWNrY2hhbWJlci5vcmcmZmw9JmV4dHJhPU11bHRpdmFyaWF0ZUlkPSYmJg==&amp\;&amp\;&amp\;120&amp\;&amp\;&amp\;https://www.mwcc-colorado.org" target="_blank"><span style="color:#007EAF\;">Minority &amp\; Women&#39\;s Chamber Coalition</span></a></span></span></span><br />\n&nbsp\;
LOCATION:Location: Charles Schwab\, 9899 Schwab Way\, Lone Tree
UID:e.825.3632
SEQUENCE:3
DTSTAMP:20260426T033404Z
URL:https://members.cbcc.biz/events/details/breaking-the-glass-ceiling-for-businesses-to-compete-3632
END:VEVENT

END:VCALENDAR
