BEGIN:VCALENDAR
VERSION:2.0
PRODID:-//ChamberMaster//Event Calendar 2.0//EN
METHOD:PUBLISH
X-PUBLISHED-TTL:P3D
REFRESH-INTERVAL:P3D
CALSCALE:GREGORIAN
BEGIN:VEVENT
DTSTART:20190302T170000Z
DTEND:20190302T193000Z
X-MICROSOFT-CDO-ALLDAYEVENT:FALSE
SUMMARY:Business Breakthrough Brunch
DESCRIPTION:Powered by the Colorado Black Chamber of Commerce and Sistahpreneurs\, the Business Breakthrough Brunch is designed to help Black women entrepreneurs play big and build scalable businesses. The Spring Brunch Theme is: Your Network is Your Networth: Winning with Social Capital. Join us for a compelling brunch discussion on networking in mainstream arenas and expanding your social capital. Hear from successful black entrepreneurs who have built diverse networks and clienteles.\n\nIf you're an aspiring or current black woman entrepreneur\, this event will help you:\n\n \n\n	Reveal key mistakes that prevent us from playing big and building a power network\n	Discover key steps to networking out of your comfort zone and building a diverse clientele \n	Learn important business must-do's that will help you build solid social capital in mainstream arenas\n\nIf this sounds like everything you need\, then you'll want to join us for a summit of successful sistahpreneurs at our next Business Breakthrough Brunch!\n\nOur last brunch sold out and wait listed quickly. Space is limited so claim your spot now! There is NO onsite registration for this event.\n\nVisit www.http://www.coloradoblackchamber.org/ for more information on the Colorado Chamber of Commerce.   Visit www.sistah.biz  for more information about Sistahpreneurs.\n\nShare this event on Facebook and Twitter.We hope you can make it!
X-ALT-DESC;FMTTYPE=text/html:<span style="font-size: 10pt\;"><span style="font-family: helvetica\,sans-serif\;"><span style="color: rgb(69\, 73\, 78)\;">Powered by the Colorado Black Chamber of Commerce and Sistahpreneurs\, the Business Breakthrough Brunch&nbsp\;is designed to help Black women entrepreneurs play big and build scalable businesses. The Spring Brunch Theme is: <strong><span style="font-family: helvetica\,sans-serif\;">Your Network is Your Networth: Winning with Social Capital.</span></strong> Join us for a compelling brunch discussion on networking in mainstream arenas and expanding your social capital. Hear from successful black entrepreneurs who have built diverse networks and clienteles.</span></span></span><br />\n<strong><span style="font-size: 10pt\;"><span style="font-family: helvetica\,sans-serif\;"><span style="color: rgb(69\, 73\, 78)\;">If you&rsquo\;re an aspiring or current black woman entrepreneur\, this event will help you:</span></span></span></strong><br />\n&nbsp\;\n<ul>\n	<li><strong><span style="font-size: 10pt\;"><span style="font-family: helvetica\,sans-serif\;"><span style="color: rgb(69\, 73\, 78)\;"><strong><span style="font-size: 10pt\;"><span style="font-family: helvetica\,sans-serif\;"><span style="color: rgb(69\, 73\, 78)\;">Reveal key mistakes that prevent us from playing big and building a power network</span></span></span></strong></span></span></span></strong></li>\n	<li><strong><span style="font-size: 10pt\;"><span style="font-family: helvetica\,sans-serif\;"><span style="color: rgb(69\, 73\, 78)\;">Discover key steps to networking out of your comfort zone and building a diverse clientele&nbsp\;</span></span></span></strong></li>\n	<li><strong><span style="font-size: 10pt\;"><span style="font-family: helvetica\,sans-serif\;"><span style="color: rgb(69\, 73\, 78)\;">Learn important business must-do&#39\;s that will help you build solid social capital in mainstream arenas</span></span></span></strong></li>\n</ul>\n<span style="font-size: 10pt\;"><span style="font-family: helvetica\,sans-serif\;"><span style="color: rgb(69\, 73\, 78)\;">If this sounds like everything you need\, then you&rsquo\;ll want to join us for a summit of successful sistahpreneurs at our next Business&nbsp\;Breakthrough Brunch!</span></span></span><br />\n<span style="font-size: 10pt\;"><span style="font-family: helvetica\,sans-serif\;"><span style="color: rgb(69\, 73\, 78)\;">Our last brunch sold out and wait listed quickly. Space is limited so claim your spot now! There is NO onsite registration for this event.</span></span></span><br />\n<span style="font-size: 10pt\;"><span style="font-family: helvetica\,sans-serif\;"><span style="color: rgb(69\, 73\, 78)\;">Visit <a href="http://www.coloradoblackchamber.org/" target="_blank"><span style="text-decoration: none\; text-underline: none\;"><span style="color: rgb(0\, 168\, 242)\;">www.http://www.coloradoblackchamber.org/ </span></span></a>for more information on the Colorado Chamber of Commerce.&nbsp\;&nbsp\; Visit <a href="http://www.sistah.biz/" target="_blank"><span style="text-decoration: none\; text-underline: none\;"><span style="color: rgb(0\, 168\, 242)\;">www.sistah.biz </span></span></a>&nbsp\;for more information about Sistahpreneurs.</span></span></span><br />\n<span style="font-size: 10pt\;"><span style="font-family: helvetica\,sans-serif\;"><span style="color: rgb(69\, 73\, 78)\;">Share this event on <a href="http://www.facebook.com/share.php?u=https%3A//www.eventbrite.com/e/business-breakthrough-brunch-for-black-women-entrepreneurs-tickets-46693060200%3Fref%3Desfb"><span style="text-decoration: none\; text-underline: none\;"><span style="color: rgb(0\, 168\, 242)\;">Facebook</span></span></a> and <a href="http://twitter.com/home?status=https%3A//www.eventbrite.com/e/business-breakthrough-brunch-for-black-women-entrepreneurs-tickets-46693060200%3Fref%3Destw"><span style="text-decoration: none\; text-underline: none\;"><span style="color: rgb(0\, 168\, 242)\;">Twitter</span></span></a>.We hope you can make it!</span></span></span>
LOCATION:Stapleton Cube 8371 E Northfield Blvd\, Denver\, CO 80238 Denver\, Colorado 80239
UID:e.825.3540
SEQUENCE:3
DTSTAMP:20260426T014717Z
URL:https://members.cbcc.biz/events/details/business-breakthrough-brunch-3540
END:VEVENT

END:VCALENDAR
