BEGIN:VCALENDAR
VERSION:2.0
PRODID:-//ChamberMaster//Event Calendar 2.0//EN
METHOD:PUBLISH
X-PUBLISHED-TTL:P3D
REFRESH-INTERVAL:P3D
CALSCALE:GREGORIAN
BEGIN:VEVENT
DTSTART:20170405T233000Z
DTEND:20170406T023000Z
X-MICROSOFT-CDO-ALLDAYEVENT:FALSE
SUMMARY:Business Diversity Program Update & Assessment Follow-Up
DESCRIPTION:Superintendent Tom Boasberg invites you to the Business Diversity Program Update & Assessment Follow-Up
X-ALT-DESC;FMTTYPE=text/html:<span style="font-size: 12px\;"><span style="font-family: arial\;"><span lang="EN" style="mso-fareast-font-family: Calibri\; mso-fareast-theme-font: minor-latin\; mso-ansi-language: EN\; mso-fareast-language: EN-US\; mso-bidi-language: AR-SA\;"><font color="#000000">Superintendent Tom Boasberg invites you to the Business Diversity Program Update &amp\; Assessment Follow-Up</font></span></span></span>
LOCATION:North High School\, Cafeteria 2960 Speer Blvd | Denver\, CO 80211
UID:e.825.1175
SEQUENCE:3
DTSTAMP:20260419T231746Z
URL:https://members.cbcc.biz/events/details/business-diversity-program-update-assessment-follow-up-1175
END:VEVENT

END:VCALENDAR
