BEGIN:VCALENDAR
VERSION:2.0
PRODID:-//ChamberMaster//Event Calendar 2.0//EN
METHOD:PUBLISH
X-PUBLISHED-TTL:P3D
REFRESH-INTERVAL:P3D
CALSCALE:GREGORIAN
BEGIN:VEVENT
DTSTART;VALUE=DATE:20190416
DTEND;VALUE=DATE:20190417
TRANSP:TRANSPARENT
X-MICROSOFT-CDO-ALLDAYEVENT:TRUE
SUMMARY:Call for Speakers: 16th Annual Spring Transportation Symposium
DESCRIPTION:Call for Speakers - 16th Annual Spring Transportation Symposium\nInterested speakers click here to submit your presentation to the planning committee for consideration. Registration coming soon!\n\nHost: Colorado Transportation Symposium\n\nWhen: Friday\, April 19\, 2019\n\nTime: All Day\n\nLocation: Grand Hyatt Denver\, 1740 Welton St.\, Denver\n\nCost: $25 through $180\n\nClick here for more information.
X-ALT-DESC;FMTTYPE=text/html:<h1 style="margin-top:0in\;margin-right:0in\;margin-bottom:22.5pt\;margin-left:0in\;"><span style="font-weight:normal\;"><span style="color:#007EAF\;"><span style="font-family:tahoma\,sans-serif\;"><span style="font-size:18.0pt\;">Call for Speakers - 16th Annual Spring Transportation Symposium</span></span></span></span></h1>\n<span style="color:black\;"><span style="font-family:tahoma\,sans-serif\;"><span style="font-size:10.5pt\;">Interested speakers&nbsp\;<a href="https://links.govdelivery.com/track?type=click&amp\;enid=ZWFzPTEmbWFpbGluZ2lkPTIwMTkwMjIyLjIxMzgwMTEmbWVzc2FnZWlkPU1EQi1QUkQtQlVMLTIwMTkwMjIyLjIxMzgwMTEmZGF0YWJhc2VpZD0xMDAxJnNlcmlhbD0xNzU5MDI2MCZlbWFpbGlkPWxlZS5tYXhleUBjb2xvcmFkb2JsYWNrY2hhbWJlci5vcmcmdXNlcmlkPWxlZS5tYXhleUBjb2xvcmFkb2JsYWNrY2hhbWJlci5vcmcmZmw9JmV4dHJhPU11bHRpdmFyaWF0ZUlkPSYmJg==&amp\;&amp\;&amp\;130&amp\;&amp\;&amp\;http://www.coloradotransportationsymposium.org/program/" target="_blank"><span style="color:#007EAF\;">click here</span></a>&nbsp\;to submit your presentation to the planning committee for consideration. Registration coming soon!</span></span></span><br />\n<strong><span style="color:black\;"><span style="font-family:tahoma\,sans-serif\;"><span style="font-size:10.5pt\;">Host:&nbsp\;</span></span></span></strong><span style="color:black\;"><span style="font-family:tahoma\,sans-serif\;"><span style="font-size:10.5pt\;"><a href="https://links.govdelivery.com/track?type=click&amp\;enid=ZWFzPTEmbWFpbGluZ2lkPTIwMTkwMjIyLjIxMzgwMTEmbWVzc2FnZWlkPU1EQi1QUkQtQlVMLTIwMTkwMjIyLjIxMzgwMTEmZGF0YWJhc2VpZD0xMDAxJnNlcmlhbD0xNzU5MDI2MCZlbWFpbGlkPWxlZS5tYXhleUBjb2xvcmFkb2JsYWNrY2hhbWJlci5vcmcmdXNlcmlkPWxlZS5tYXhleUBjb2xvcmFkb2JsYWNrY2hhbWJlci5vcmcmZmw9JmV4dHJhPU11bHRpdmFyaWF0ZUlkPSYmJg==&amp\;&amp\;&amp\;131&amp\;&amp\;&amp\;http://www.coloradotransportationsymposium.org" target="_blank"><span style="color:#007EAF\;">Colorado Transportation Symposium</span></a></span></span></span><br />\n<strong><span style="color:black\;"><span style="font-family:tahoma\,sans-serif\;"><span style="font-size:10.5pt\;">When</span></span></span></strong><span style="color:black\;"><span style="font-family:tahoma\,sans-serif\;"><span style="font-size:10.5pt\;">: Friday\, April 19\, 2019</span></span></span><br />\n<strong><span style="color:black\;"><span style="font-family:tahoma\,sans-serif\;"><span style="font-size:10.5pt\;">Time</span></span></span></strong><span style="color:black\;"><span style="font-family:tahoma\,sans-serif\;"><span style="font-size:10.5pt\;">: All Day</span></span></span><br />\n<strong><span style="color:black\;"><span style="font-family:tahoma\,sans-serif\;"><span style="font-size:10.5pt\;">Location</span></span></span></strong><span style="color:black\;"><span style="font-family:tahoma\,sans-serif\;"><span style="font-size:10.5pt\;">: Grand Hyatt Denver\, 1740 Welton St.\, Denver</span></span></span><br />\n<strong><span style="color:black\;"><span style="font-family:tahoma\,sans-serif\;"><span style="font-size:10.5pt\;">Cost</span></span></span></strong><span style="color:black\;"><span style="font-family:tahoma\,sans-serif\;"><span style="font-size:10.5pt\;">: $25 through $180</span></span></span><br />\n<strong><span style="color:black\;"><span style="font-family:tahoma\,sans-serif\;"><span style="font-size:10.5pt\;"><a href="https://links.govdelivery.com/track?type=click&amp\;enid=ZWFzPTEmbWFpbGluZ2lkPTIwMTkwMjIyLjIxMzgwMTEmbWVzc2FnZWlkPU1EQi1QUkQtQlVMLTIwMTkwMjIyLjIxMzgwMTEmZGF0YWJhc2VpZD0xMDAxJnNlcmlhbD0xNzU5MDI2MCZlbWFpbGlkPWxlZS5tYXhleUBjb2xvcmFkb2JsYWNrY2hhbWJlci5vcmcmdXNlcmlkPWxlZS5tYXhleUBjb2xvcmFkb2JsYWNrY2hhbWJlci5vcmcmZmw9JmV4dHJhPU11bHRpdmFyaWF0ZUlkPSYmJg==&amp\;&amp\;&amp\;132&amp\;&amp\;&amp\;http://www.coloradotransportationsymposium.org" target="_blank"><span style="color:#007EAF\;">Click here</span></a> for more information.</span></span></span></strong><br />\n&nbsp\;
LOCATION:Location: Grand Hyatt Denver\, 1740 Welton St.\, Denver
UID:e.825.3636
SEQUENCE:3
DTSTAMP:20260426T015007Z
URL:https://members.cbcc.biz/events/details/call-for-speakers-16th-annual-spring-transportation-symposium-3636
END:VEVENT

END:VCALENDAR
