BEGIN:VCALENDAR
VERSION:2.0
PRODID:-//ChamberMaster//Event Calendar 2.0//EN
METHOD:PUBLISH
X-PUBLISHED-TTL:P3D
REFRESH-INTERVAL:P3D
CALSCALE:GREGORIAN
BEGIN:VEVENT
DTSTART:20140214T010000Z
DTEND:20140214T030000Z
X-MICROSOFT-CDO-ALLDAYEVENT:FALSE
SUMMARY:CBC After Hours Event At Boyer's Coffee
DESCRIPTION:Join the CBCC for its first After Hours Event in 2014. This event promises to provide great networking for CBCC members and other business professionals.
X-ALT-DESC;FMTTYPE=text/html:Join the CBCC for its first After Hours Event in 2014. This event promises to provide great networking for CBCC members and other business professionals.&nbsp\;
LOCATION:Boyer's Coffee 7295 Washington Street Denver\, CO 80229
UID:e.825.913
SEQUENCE:3
DTSTAMP:20260419T163015Z
URL:https://members.cbcc.biz/events/details/cbc-after-hours-event-at-boyer-s-coffee-02-13-2014-913
END:VEVENT

END:VCALENDAR
