BEGIN:VCALENDAR
VERSION:2.0
PRODID:-//ChamberMaster//Event Calendar 2.0//EN
METHOD:PUBLISH
X-PUBLISHED-TTL:P3D
REFRESH-INTERVAL:P3D
CALSCALE:GREGORIAN
BEGIN:VEVENT
DTSTART:20190401T010000Z
DTEND:20190401T040000Z
X-MICROSOFT-CDO-ALLDAYEVENT:FALSE
SUMMARY:CBWPA Group Night with the Denver Nuggets
DESCRIPTION:Come out and support the Colorado Black Women for Political Action Group Night with the Denver Nuggets! A portion of every ticket will go back to the organization. In Game Experience Opportunities: - VIP Experience\; - Half Time High Five Fan Tunnel. Please join us for lively cocktails and spirited\, political dialogue with people just like you... conscious members of the Community!!!
X-ALT-DESC;FMTTYPE=text/html:<span style="color:black\;"><span style="font-family:tahoma\,sans-serif\;"><span style="font-size:10.5pt\;">Come out and support the Colorado Black Women for Political Action Group Night with the Denver Nuggets!&nbsp\;A portion of every ticket will go back to the organization. In Game Experience Opportunities: - VIP Experience\;&nbsp\;- Half Time High Five Fan Tunnel. Please join us for lively cocktails and spirited\, political dialogue with people just like you...&nbsp\;conscious members of the Community!!!&nbsp\;&nbsp\;</span></span></span><br />\n&nbsp\;
LOCATION:Location: Pepsi Center
UID:e.825.3634
SEQUENCE:3
DTSTAMP:20260426T015619Z
URL:https://members.cbcc.biz/events/details/cbwpa-group-night-with-the-denver-nuggets-3634
END:VEVENT

END:VCALENDAR
