BEGIN:VCALENDAR
VERSION:2.0
PRODID:-//ChamberMaster//Event Calendar 2.0//EN
METHOD:PUBLISH
X-PUBLISHED-TTL:P3D
REFRESH-INTERVAL:P3D
CALSCALE:GREGORIAN
BEGIN:VEVENT
DTSTART:20210227T170000Z
DTEND:20210227T190000Z
X-MICROSOFT-CDO-ALLDAYEVENT:FALSE
SUMMARY:CELEBRATING BLACK HISTORY MONTH BLACK LIVES & BLACK MINDS MATTER GAINING GROUND IN THE BLACK COMMUNITY ZOOM SERIES FINDING OUR WAY BACK FROM THE DARKNESS - A NEW DAY & A NEW WAY: "LIFE IS WHAT YOU MAKE IT - LIFE IS WHAT YOU DO NEXT'
DESCRIPTION:CELEBRATING BLACK HISTORY MONTH \n\nBLACK LIVES & BLACK MINDS MATTER \n\nGAINING GROUND IN THE BLACK COMMUNITY \n\n \n\nFINDING OUR WAY BACK FROM THE DARKNESS \n\n- A NEW DAY & A NEW WAY:\n\n"LIFE IS WHAT YOU MAKE IT - LIFE IS WHAT YOU DO NEXT'
X-ALT-DESC;FMTTYPE=text/html:<strong><span style="color:#387D2B\;"><span style="font-family:georgia\,serif\;"><span style="font-size:15.0pt\;">CELEBRATING</span></span></span></strong><strong><span style="color:black\;"><span style="font-family:georgia\,serif\;"><span style="font-size:15.0pt\;">&nbsp\;BLACK&nbsp\;HISTORY&nbsp\;</span></span></span></strong><strong><span style="color:#F0160E\;"><span style="font-family:georgia\,serif\;"><span style="font-size:15.0pt\;">MONTH&nbsp\;</span></span></span></strong><br />\n<strong><span style="color:black\;"><span style="font-family:georgia\,serif\;"><span style="font-size:15.0pt\;">BLACK LIVES &amp\; BLACK MINDS MATTER&nbsp\;</span></span></span></strong><br />\n<strong><span style="color:black\;"><span style="font-family:georgia\,serif\;"><span style="font-size:12.0pt\;">GAINING GROUND IN THE BLACK COMMUNITY&nbsp\;</span></span></span></strong><br />\n&nbsp\;<br />\n<strong><span style="color:blue\;"><span style="font-family:georgia\,serif\;"><span style="font-size:16.5pt\;">FINDING OUR WAY BACK FROM THE DARKNESS&nbsp\;</span></span></span></strong><br />\n<strong><span style="color:blue\;"><span style="font-family:georgia\,serif\;"><span style="font-size:16.5pt\;">- A NEW DAY &amp\; A NEW WAY:</span></span></span></strong><br />\n<strong><span style="color:black\;"><span style="font-family:georgia\,serif\;"><span style="font-size:13.5pt\;">&quot\;LIFE IS WHAT YOU MAKE IT - LIFE IS WHAT YOU DO NEXT&#39\;</span></span></span></strong><br />\n&nbsp\;
LOCATION:ZOOM SERIES
UID:e.825.3939
SEQUENCE:3
DTSTAMP:20260424T105903Z
URL:https://members.cbcc.biz/events/details/celebrating-black-history-month-black-lives-black-minds-matter-gaining-ground-in-the-black-community-zoom-series-finding-our-way-back-from-the-darkness-a-new-day-a-new-way-life-is-what-you-make-it-life-is-what-you-do-next-3939
END:VEVENT

END:VCALENDAR
