BEGIN:VCALENDAR
VERSION:2.0
PRODID:-//ChamberMaster//Event Calendar 2.0//EN
METHOD:PUBLISH
X-PUBLISHED-TTL:P3D
REFRESH-INTERVAL:P3D
CALSCALE:GREGORIAN
BEGIN:VEVENT
DTSTART:20190404T143000Z
DTEND:20190404T153000Z
X-MICROSOFT-CDO-ALLDAYEVENT:FALSE
SUMMARY:Coffee with the Contractor
DESCRIPTION:Are you a small\, minority\, woman\, disadvantaged\, emerging or veteran-owned subcontractor/supplier in the construction industry? Are you hoping to network with a top-ranked Construction Manager/General Contractor in Colorado? If you answered yes\, then register today and join us for an intimate setting where you can meet\, mingle and have Coffee with a Contractor! Act fast! This free networking opportunity is 'First Come\, First Serve.' The maximum attendance is (10) individuals per month.\n\n* Learn about upcoming bid opportunities on our construction projects        \n\n* Meet key team members from our Denver Group        \n\n* Tour our Denver Office\n\nHost: Colorado Procurement Technical Assistance Center (PTAC)\n\nWhen: Thursdays\, March 7\, April 4\, May 2\, June 6\, July 11\, August 1\, September 5\, October 3\, November 7\, December 5\n\nTime: 8:30 am - 9:30 am\n\nLocation: Varies \n\nCost: Free\, requires registration\n\nClick Here for more information and to register.
X-ALT-DESC;FMTTYPE=text/html:<span style="color:black\;"><span style="font-family:tahoma\,sans-serif\;"><span style="font-size:10.5pt\;">Are you a small\, minority\, woman\, disadvantaged\, emerging or veteran-owned subcontractor/supplier in the construction industry? Are you hoping to network with a top-ranked Construction Manager/General Contractor in Colorado? If you answered yes\, then register today and join us for an intimate setting where you can meet\, mingle and have Coffee with a Contractor! Act fast! This&nbsp\;<strong><span style="font-family:tahoma\,sans-serif\;">free</span></strong>&nbsp\;networking opportunity is &#39\;First Come\, First Serve.&#39\;&nbsp\;The maximum attendance is (10) individuals per month.</span></span></span><br />\n<span style="color:black\;"><span style="font-family:tahoma\,sans-serif\;"><span style="font-size:10.5pt\;">* Learn about upcoming bid opportunities on our construction projects &nbsp\; &nbsp\; &nbsp\; &nbsp\;</span></span></span><br />\n<span style="color:black\;"><span style="font-family:tahoma\,sans-serif\;"><span style="font-size:10.5pt\;">* Meet key team members from our Denver Group &nbsp\; &nbsp\; &nbsp\; &nbsp\;</span></span></span><br />\n<span style="color:black\;"><span style="font-family:tahoma\,sans-serif\;"><span style="font-size:10.5pt\;">* Tour our Denver Office</span></span></span><br />\n<strong><span style="color:black\;"><span style="font-family:tahoma\,sans-serif\;"><span style="font-size:10.5pt\;">Host</span></span></span></strong><span style="color:black\;"><span style="font-family:tahoma\,sans-serif\;"><span style="font-size:10.5pt\;">: <a href="https://links.govdelivery.com/track?type=click&amp\;enid=ZWFzPTEmbWFpbGluZ2lkPTIwMTkwMjIyLjIxMzgwMTEmbWVzc2FnZWlkPU1EQi1QUkQtQlVMLTIwMTkwMjIyLjIxMzgwMTEmZGF0YWJhc2VpZD0xMDAxJnNlcmlhbD0xNzU5MDI2MCZlbWFpbGlkPWxlZS5tYXhleUBjb2xvcmFkb2JsYWNrY2hhbWJlci5vcmcmdXNlcmlkPWxlZS5tYXhleUBjb2xvcmFkb2JsYWNrY2hhbWJlci5vcmcmZmw9JmV4dHJhPU11bHRpdmFyaWF0ZUlkPSYmJg==&amp\;&amp\;&amp\;114&amp\;&amp\;&amp\;https://www.coloradoptac.org/" target="_blank"><span style="color:#007EAF\;">Colorado Procurement Technical Assistance Center (PTAC)</span></a></span></span></span><br />\n<strong><span style="color:black\;"><span style="font-family:tahoma\,sans-serif\;"><span style="font-size:10.5pt\;">When</span></span></span></strong><span style="color:black\;"><span style="font-family:tahoma\,sans-serif\;"><span style="font-size:10.5pt\;">: Thursdays\, March 7\, April 4\, May 2\, June 6\, July 11\, August 1\, September 5\, October 3\, November 7\, December 5</span></span></span><br />\n<strong><span style="color:black\;"><span style="font-family:tahoma\,sans-serif\;"><span style="font-size:10.5pt\;">Time</span></span></span></strong><span style="color:black\;"><span style="font-family:tahoma\,sans-serif\;"><span style="font-size:10.5pt\;">: 8:30 am - 9:30 am</span></span></span><br />\n<strong><span style="color:black\;"><span style="font-family:tahoma\,sans-serif\;"><span style="font-size:10.5pt\;">Location</span></span></span></strong><span style="color:black\;"><span style="font-family:tahoma\,sans-serif\;"><span style="font-size:10.5pt\;">: Varies&nbsp\;</span></span></span><br />\n<strong><span style="color:black\;"><span style="font-family:tahoma\,sans-serif\;"><span style="font-size:10.5pt\;">Cost</span></span></span></strong><span style="color:black\;"><span style="font-family:tahoma\,sans-serif\;"><span style="font-size:10.5pt\;">: Free\, requires registration</span></span></span><br />\n<strong><span style="color:black\;"><span style="font-family:tahoma\,sans-serif\;"><span style="font-size:10.5pt\;"><a href="https://links.govdelivery.com/track?type=click&amp\;enid=ZWFzPTEmbWFpbGluZ2lkPTIwMTkwMjIyLjIxMzgwMTEmbWVzc2FnZWlkPU1EQi1QUkQtQlVMLTIwMTkwMjIyLjIxMzgwMTEmZGF0YWJhc2VpZD0xMDAxJnNlcmlhbD0xNzU5MDI2MCZlbWFpbGlkPWxlZS5tYXhleUBjb2xvcmFkb2JsYWNrY2hhbWJlci5vcmcmdXNlcmlkPWxlZS5tYXhleUBjb2xvcmFkb2JsYWNrY2hhbWJlci5vcmcmZmw9JmV4dHJhPU11bHRpdmFyaWF0ZUlkPSYmJg==&amp\;&amp\;&amp\;115&amp\;&amp\;&amp\;https://www.eventbrite.com/e/coffee-with-the-contractor-january-2019-tickets-54172769211" target="_blank"><span style="color:#007EAF\;">Click Here</span></a> for more information and to register.</span></span></span></strong><br />\n&nbsp\;
LOCATION:Varies
UID:e.825.3612
SEQUENCE:3
DTSTAMP:20260426T002750Z
URL:https://members.cbcc.biz/events/details/coffee-with-the-contractor-04-04-2019-3612
END:VEVENT

END:VCALENDAR
