BEGIN:VCALENDAR
VERSION:2.0
PRODID:-//ChamberMaster//Event Calendar 2.0//EN
METHOD:PUBLISH
X-PUBLISHED-TTL:P3D
REFRESH-INTERVAL:P3D
CALSCALE:GREGORIAN
BEGIN:VEVENT
DTSTART;VALUE=DATE:20170520
DTEND;VALUE=DATE:20170522
TRANSP:TRANSPARENT
X-MICROSOFT-CDO-ALLDAYEVENT:TRUE
SUMMARY:Colfax Marathon
DESCRIPTION:The Colorado Black Health Collaborative is super excited to be a Charity Partner for the Kaiser Permanente Colfax Marathon this year. Let's come together in good fun and fitness to run or walk in the spirit of reducing the incidence of cardiovascular disease in the Black community.\n\n\n\nOur goal is to register 50 participants by May 18th for any of the 7 races taking place on May 20th and May 21st.\n\n\n\n#ShoYoFLOW! Forming a Lifetime of Optimal Wellness takes a village. There are multiple ways to participate. 2 Days. 7 Races. Which one will you run? Visit www.runcolfax.org to review race details\, photos and video then register by following the steps on the flyer above.\n\n\n\nIf you'd like to support our effort but you're unable to participate\, you may donate to CBHC in support of our Colfax Marathon Charity Partnership here or by visiting www.runcolfax.org/charity-partners/colorado-black-health-collaborative/.
X-ALT-DESC;FMTTYPE=text/html:<span style="font-size: 12px\;"><span style="font-family: arial\;"><span style="mso-fareast-font-family: &quot\;Times New Roman&quot\;\; mso-ansi-language: EN-US\; mso-fareast-language: EN-US\; mso-bidi-language: AR-SA\;"><font color="#000000">The Colorado Black Health Collaborative is super excited to be a Charity Partner for the Kaiser Permanente Colfax Marathon this year. Let&rsquo\;s come together in good fun and fitness to run or walk in the spirit of reducing the incidence of cardiovascular disease in the Black community.</font><br />\n<br />\n<span style="color: purple\;">Our goal is to register 50 participants by May 18<sup>th</sup> for any of the 7 races taking place on May 20<sup>th</sup> and May 21<sup>st</sup>.</span><br />\n<br />\n<span style="color: blue\;">#ShoYoFLOW!</span><font color="#000000"> Forming a Lifetime of Optimal Wellness takes a village. There are multiple ways to participate. 2 Days. 7 Races. Which one will you run? Visit </font><a href="http://coloradoblackhealth.us10.list-manage.com/track/click?u=1cfe57284ac40f04ae2d418c6&amp\;id=77b57fd896&amp\;e=d3c26baca5" title="http://coloradoblackhealth.us10.list-manage.com/track/click?u=1cfe57284ac40f04ae2d418c6&amp\;id=77b57fd896&amp\;e=d3c26baca5"><b><span style="color: rgb(43\, 170\, 223)\;">www.runcolfax.org</span></b></a><font color="#000000"> to review race details\, photos and video then register by following the steps on the flyer above.</font><br />\n<br />\n<span style="color: purple\;">If you&rsquo\;d like to support our effort but you&rsquo\;re unable to participate\, you may donate to CBHC in support of our Colfax Marathon Charity Partnership</span><font color="#000000"> </font><a href="http://coloradoblackhealth.us10.list-manage.com/track/click?u=1cfe57284ac40f04ae2d418c6&amp\;id=c60db67be9&amp\;e=d3c26baca5" title="http://coloradoblackhealth.us10.list-manage.com/track/click?u=1cfe57284ac40f04ae2d418c6&amp\;id=c60db67be9&amp\;e=d3c26baca5"><b><span style="color: rgb(43\, 170\, 223)\;">here</span></b></a><font color="#000000"> </font><span style="color: purple\;">or by visiting</span><font color="#000000"> </font><a href="http://coloradoblackhealth.us10.list-manage.com/track/click?u=1cfe57284ac40f04ae2d418c6&amp\;id=87194941d2&amp\;e=d3c26baca5" title="http://coloradoblackhealth.us10.list-manage.com/track/click?u=1cfe57284ac40f04ae2d418c6&amp\;id=87194941d2&amp\;e=d3c26baca5"><b><span style="color: rgb(43\, 170\, 223)\;">www.runcolfax.org/charity-partners/colorado-black-health-collaborative/</span></b></a><font color="#000000">.</font></span></span></span><br />\n&nbsp\;
LOCATION:
UID:e.825.1198
SEQUENCE:3
DTSTAMP:20260420T082408Z
URL:https://members.cbcc.biz/events/details/colfax-marathon-1198
END:VEVENT

END:VCALENDAR
