BEGIN:VCALENDAR
VERSION:2.0
PRODID:-//ChamberMaster//Event Calendar 2.0//EN
METHOD:PUBLISH
X-PUBLISHED-TTL:P3D
REFRESH-INTERVAL:P3D
CALSCALE:GREGORIAN
BEGIN:VEVENT
DTSTART:20170202T153000Z
DTEND:20170202T173000Z
X-MICROSOFT-CDO-ALLDAYEVENT:FALSE
SUMMARY:Colorado Small Business Tax and Budget Workshop
DESCRIPTION:With tax season upon us\, Small Business Majority and the Colorado Black Chamber of Commerce invite small business owners and self-employed entrepreneurs to a free business workshop on how to navigate your tax filings for financial savings\, prosperity and sustainability.\n\nAdditionally\, information will be provided to help you understand where your Colorado tax dollars go and how our state budget is structured.\n\n\n\nSmall business tax experts will present on the following topics:\n\n\n	Learn when to file taxes\, how to make payments and how to identify your worker classification\n	Identify record-keeping best practices for IRS reporting and deductions\n	Tax Rates\, including self-employment tax and their effect on small business\n	Discussion around the current state of Colorado's budget and tax structure.\n\nThis event is free and open to the public.
X-ALT-DESC;FMTTYPE=text/html:<h3 style="padding:0px\;font-size:12px\;line-height:18px\;color:rgb(40\, 44\, 53)\;text-transform:uppercase\;font-family:Benton Sans\, Helvetica Neue\, Helvetica\, Roboto\, Arial\, sans-serif\;letter-spacing:0.5px\;">&nbsp\;</h3>\n\n<div data-xd-wired="read-more" dorsal-guid="af7cbf64-7d4f-fad2-9a9b-00aad39260f3" style="padding:0px\;color:rgb(69\, 73\, 78)\;font-family:Benton Sans\, Helvetica Neue\, Helvetica\, Roboto\, Arial\, sans-serif\;font-size:15px\;letter-spacing:0.5px\;line-height:22px\;">\n<div style="padding:0px\;overflow:hidden\;position:relative\;">\n<div style="margin:15px 0px 0px\;padding:0px\;">With tax season upon us\,&nbsp\;<span style="font-weight:700\;padding-top:0px\;">Small Business Majority&nbsp\;</span>and the<span style="font-weight:700\;">&nbsp\;Colorado Black Chamber of Commerce</span>&nbsp\;invite small business owners and self-employed entrepreneurs to a free business workshop on how to navigate your tax filings for financial savings\, prosperity and sustainability.<br />\nAdditionally\, information will be provided to help you understand where your&nbsp\;<span style="padding-top:0px\;">Colorado&nbsp\;</span>tax dollars go and how our state budget is structured.<br style="padding-top:0px\;" />\n<br />\n<span style="font-weight:700\;">Small business tax experts will present on the following topics:</span>\n\n<ul>\n	<li style="padding:0px\;">Learn when to file taxes\, how to make payments and how to identify your worker classification</li>\n	<li style="padding:5px 0px 0px\;">Identify record-keeping best practices for IRS reporting and deductions</li>\n	<li style="padding:5px 0px 0px\;">Tax Rates\, including self-employment tax and their effect on small business</li>\n	<li style="padding:5px 0px 0px\;">Discussion around the current state of Colorado&#39\;s budget and tax structure.</li>\n</ul>\nThis event is free and open to the public.</div>\n</div>\n</div>\n
LOCATION:Mile High United Way 711 Park Avenue West Busse Board Room Denver\, CO 80205
UID:e.825.1151
SEQUENCE:3
DTSTAMP:20260422T002416Z
URL:https://members.cbcc.biz/events/details/colorado-small-business-tax-and-budget-workshop-1151
END:VEVENT

END:VCALENDAR
