BEGIN:VCALENDAR
VERSION:2.0
PRODID:-//ChamberMaster//Event Calendar 2.0//EN
METHOD:PUBLISH
X-PUBLISHED-TTL:P3D
REFRESH-INTERVAL:P3D
CALSCALE:GREGORIAN
BEGIN:VEVENT
DTSTART;VALUE=DATE:20190801
DTEND;VALUE=DATE:20190802
TRANSP:TRANSPARENT
X-MICROSOFT-CDO-ALLDAYEVENT:TRUE
SUMMARY:COMTO 2019 Annual Golf Tournament
DESCRIPTION:Registration Opens 7:00a Shotgun Start 8:00 am 18 Hole - 4 Person Team Scramble Individual $170 Foursome $640 Registration Includes: Practice Facility\, Golf Cart\, BBQ Lunch Buffet\, Awards Ceremony\, Raffle Prizes\, and Netwoking Opportunities!
X-ALT-DESC;FMTTYPE=text/html:Registration Opens 7:00a Shotgun Start 8:00 am 18 Hole - 4 Person Team Scramble Individual $170 Foursome $640 Registration Includes: Practice Facility\, Golf Cart\, BBQ Lunch Buffet\, Awards Ceremony\, Raffle Prizes\, and Netwoking Opportunities!
LOCATION:Green Valley Ranch Golf Course 4900 Himalaya Road\, Denver\, CO 80249
UID:e.825.3840
SEQUENCE:3
DTSTAMP:20260425T182821Z
URL:https://members.cbcc.biz/events/details/comto-2019-annual-golf-tournament-3840
END:VEVENT

END:VCALENDAR
