BEGIN:VCALENDAR
VERSION:2.0
PRODID:-//ChamberMaster//Event Calendar 2.0//EN
METHOD:PUBLISH
X-PUBLISHED-TTL:P3D
REFRESH-INTERVAL:P3D
CALSCALE:GREGORIAN
BEGIN:VEVENT
DTSTART:20190409T150000Z
DTEND:20190409T170000Z
X-MICROSOFT-CDO-ALLDAYEVENT:FALSE
SUMMARY:CU Supplier Orientation
DESCRIPTION:Content is focused for business concerns interested in learning how the University's procurement process operates. Businesses which offer goods or services appropriate for University consumption are encouraged to attend. The session does not include information on student/student group purchasing or construction projects.\n\nHost: University of Colorado Procurement Service Center\n\nWhen: Tuesdays: March 12\, April 9\, May 14\, June 11\, July 9\, August 13\, September 10\, October 8\, November 12\, December 10\n\nTime: 9:00 a.m. - 11:00 a.m.\n\nLocation: University of Colorado Procurement Service Center\, 1800 Grant Street\, Suite 500\, Denver\n\nCost: Free\n\nClick Here for more information and to register.
X-ALT-DESC;FMTTYPE=text/html:<span style="color:black\;"><span style="font-family:tahoma\,sans-serif\;"><span style="font-size:10.5pt\;">Content is focused for business concerns interested in learning how the University&rsquo\;s procurement process operates. Businesses which offer goods or services appropriate for University consumption are encouraged to attend. The session does not include information on student/student group purchasing or construction projects.</span></span></span><br />\n<strong><span style="color:black\;"><span style="font-family:tahoma\,sans-serif\;"><span style="font-size:10.5pt\;">Host</span></span></span></strong><span style="color:black\;"><span style="font-family:tahoma\,sans-serif\;"><span style="font-size:10.5pt\;">: <a href="https://links.govdelivery.com/track?type=click&amp\;enid=ZWFzPTEmbWFpbGluZ2lkPTIwMTkwMjIyLjIxMzgwMTEmbWVzc2FnZWlkPU1EQi1QUkQtQlVMLTIwMTkwMjIyLjIxMzgwMTEmZGF0YWJhc2VpZD0xMDAxJnNlcmlhbD0xNzU5MDI2MCZlbWFpbGlkPWxlZS5tYXhleUBjb2xvcmFkb2JsYWNrY2hhbWJlci5vcmcmdXNlcmlkPWxlZS5tYXhleUBjb2xvcmFkb2JsYWNrY2hhbWJlci5vcmcmZmw9JmV4dHJhPU11bHRpdmFyaWF0ZUlkPSYmJg==&amp\;&amp\;&amp\;116&amp\;&amp\;&amp\;https://www.cu.edu/psc" target="_blank"><span style="color:#007EAF\;">University of Colorado Procurement Service Center</span></a></span></span></span><br />\n<strong><span style="color:black\;"><span style="font-family:tahoma\,sans-serif\;"><span style="font-size:10.5pt\;">When</span></span></span></strong><span style="color:black\;"><span style="font-family:tahoma\,sans-serif\;"><span style="font-size:10.5pt\;">: Tuesdays: March 12\, April 9\, May 14\, June 11\, July 9\, August 13\, September 10\, October 8\, November 12\, December 10</span></span></span><br />\n<strong><span style="color:black\;"><span style="font-family:tahoma\,sans-serif\;"><span style="font-size:10.5pt\;">Time</span></span></span></strong><span style="color:black\;"><span style="font-family:tahoma\,sans-serif\;"><span style="font-size:10.5pt\;">: 9:00 a.m. - 11:00 a.m.</span></span></span><br />\n<strong><span style="color:black\;"><span style="font-family:tahoma\,sans-serif\;"><span style="font-size:10.5pt\;">Location</span></span></span></strong><span style="color:black\;"><span style="font-family:tahoma\,sans-serif\;"><span style="font-size:10.5pt\;">: University of Colorado Procurement Service Center\, 1800 Grant Street\, Suite 500\, Denver</span></span></span><br />\n<strong><span style="color:black\;"><span style="font-family:tahoma\,sans-serif\;"><span style="font-size:10.5pt\;">Cost</span></span></span></strong><span style="color:black\;"><span style="font-family:tahoma\,sans-serif\;"><span style="font-size:10.5pt\;">: Free</span></span></span><br />\n<strong><span style="color:black\;"><span style="font-family:tahoma\,sans-serif\;"><span style="font-size:10.5pt\;"><a href="https://links.govdelivery.com/track?type=click&amp\;enid=ZWFzPTEmbWFpbGluZ2lkPTIwMTkwMjIyLjIxMzgwMTEmbWVzc2FnZWlkPU1EQi1QUkQtQlVMLTIwMTkwMjIyLjIxMzgwMTEmZGF0YWJhc2VpZD0xMDAxJnNlcmlhbD0xNzU5MDI2MCZlbWFpbGlkPWxlZS5tYXhleUBjb2xvcmFkb2JsYWNrY2hhbWJlci5vcmcmdXNlcmlkPWxlZS5tYXhleUBjb2xvcmFkb2JsYWNrY2hhbWJlci5vcmcmZmw9JmV4dHJhPU11bHRpdmFyaWF0ZUlkPSYmJg==&amp\;&amp\;&amp\;117&amp\;&amp\;&amp\;https://www.cu.edu/psc/policies/supplier-orientation-registration" target="_blank"><span style="color:#007EAF\;">Click Here</span></a>&nbsp\;for more information and to register.</span></span></span></strong>
LOCATION:Location: University of Colorado Procurement Service Center\, 1800 Grant Street\, Suite 500\, Denver
UID:e.825.3622
SEQUENCE:3
DTSTAMP:20260426T014843Z
URL:https://members.cbcc.biz/events/details/cu-supplier-orientation-04-09-2019-3622
END:VEVENT

END:VCALENDAR
