BEGIN:VCALENDAR
VERSION:2.0
PRODID:-//ChamberMaster//Event Calendar 2.0//EN
METHOD:PUBLISH
X-PUBLISHED-TTL:P3D
REFRESH-INTERVAL:P3D
CALSCALE:GREGORIAN
BEGIN:VEVENT
DTSTART:20190217T200000Z
DTEND:20190217T220000Z
X-MICROSOFT-CDO-ALLDAYEVENT:FALSE
SUMMARY:Day of Remembrance
DESCRIPTION:The Mile High Chapter of the Japanese Americans Citizens League is hosting the annual Day of Remembrance event marking February 19\, 1942 the day President Franklin D. Roosevelt signed Executive Order 9066\, clearing the way for 120\,000 people of Japanese ancestry to be incarcerated in American concentration camps during World War II. Our program for the day features key speakers and presentations exploring the significance and impact of the event.
X-ALT-DESC;FMTTYPE=text/html:<span style="color:#333333\;"><span style="font-family:arial\,sans-serif\;"><span style="font-size:10.5pt\;">The Mile High Chapter of the Japanese Americans Citizens League is hosting the annual Day of Remembrance event marking February 19\, 1942&mdash\;the day President Franklin D. Roosevelt signed Executive Order 9066\, clearing the way for 120\,000 people of Japanese ancestry to be incarcerated in American concentration camps during World War II. Our program for the day features key speakers and presentations exploring the significance and impact of the event.</span></span></span>
LOCATION:History Colorado Center 1200 N Broadway\, Denver\, CO 80203
UID:e.825.3585
SEQUENCE:3
DTSTAMP:20260426T032012Z
URL:https://members.cbcc.biz/events/details/day-of-remembrance-3585
END:VEVENT

END:VCALENDAR
