BEGIN:VCALENDAR
VERSION:2.0
PRODID:-//ChamberMaster//Event Calendar 2.0//EN
METHOD:PUBLISH
X-PUBLISHED-TTL:P3D
REFRESH-INTERVAL:P3D
CALSCALE:GREGORIAN
BEGIN:VEVENT
DTSTART:20190207T160000Z
DTEND:20190207T180000Z
X-MICROSOFT-CDO-ALLDAYEVENT:FALSE
SUMMARY:Denver Public Schools: Coffee Chat
DESCRIPTION:The DPS Coffee Chat series is conducted quarterly and provides a causal environment for district vendors\, employees\, and community members to gather and connect. With the large amount of work taking place throughout the city\, the district would like to provide an opportunity for local primes and subcontractors to network. Come and join the Office of Business Diversity for a cup of coffee and learn about upcoming opportunities in the district. We hope to see you there!\n\nThe 2018-2019 series will take place from 9:00 am - 11:00 am on the dates shown below.\n\n	    August 2\, 2018\n	    November 1\, 2018\n	    February 7\, 2019\n	    May 2\, 2019
X-ALT-DESC;FMTTYPE=text/html:<br />\n<span style="font-family:tahoma\,sans-serif\;"><span style="font-size:10.5pt\;">The DPS Coffee Chat series is conducted quarterly and provides a causal environment for district vendors\, employees\, and community members to gather and connect. With the large amount of work taking place throughout the city\, the district would like to provide an opportunity for local primes and subcontractors to network. Come and join the Office of Business Diversity for a cup of coffee and learn about upcoming opportunities in the district. We hope to see you there!</span></span><br />\n<span style="font-family:tahoma\,sans-serif\;"><span style="font-size:10.5pt\;">The 2018-2019 series will take place from <strong><span style="font-family:tahoma\,sans-serif\;">9:00 am - 11:00 am</span></strong> on the dates shown below.</span></span>\n<ul>\n	<li><span style="font-family:tahoma\,sans-serif\;">&nbsp\;&nbsp\;&nbsp\; <a href="https://calendar.google.com/calendar/r/eventedit/MGlsaTdmNmplOWVtaTdlcGoxbGFrNW5yNjBfMjAxODA4MDJUMTUwMDAwWiA0MDRxbjR1aWp1dGEzZjFxbzVvMTJwZmJuY0Bn?tab=mc">August 2\, 2018</a></span></li>\n	<li><span style="font-family:tahoma\,sans-serif\;">&nbsp\;&nbsp\;&nbsp\;<a href="https://calendar.google.com/calendar/r/eventedit/MGlsaTdmNmplOWVtaTdlcGoxbGFrNW5yNjBfMjAxODExMDFUMTUwMDAwWiA0MDRxbjR1aWp1dGEzZjFxbzVvMTJwZmJuY0Bn?tab=mc"> November 1\, 2018</a></span></li>\n	<li><span style="font-family:tahoma\,sans-serif\;">&nbsp\;&nbsp\;&nbsp\; <a href="https://calendar.google.com/calendar/r/eventedit/MGlsaTdmNmplOWVtaTdlcGoxbGFrNW5yNjBfMjAxOTAyMDdUMTYwMDAwWiA0MDRxbjR1aWp1dGEzZjFxbzVvMTJwZmJuY0Bn?tab=mc">February 7\, 2019</a></span></li>\n	<li><span style="font-family:tahoma\,sans-serif\;">&nbsp\;&nbsp\;&nbsp\;<a href="https://calendar.google.com/calendar/r/eventedit/MGlsaTdmNmplOWVtaTdlcGoxbGFrNW5yNjBfMjAxOTA1MDJUMTUwMDAwWiA0MDRxbjR1aWp1dGEzZjFxbzVvMTJwZmJuY0Bn?tab=mc"> May 2\, 2019</a></span></li>\n</ul>\n
LOCATION:Coffee at the Point 710 E. 26th Avenue Denver\, CO 80205 (Welton St. & 27th St.)
UID:e.825.3508
SEQUENCE:3
DTSTAMP:20260426T032124Z
URL:https://members.cbcc.biz/events/details/denver-public-schools-coffee-chat-02-01-2019-3508
END:VEVENT

END:VCALENDAR
