BEGIN:VCALENDAR
VERSION:2.0
PRODID:-//ChamberMaster//Event Calendar 2.0//EN
METHOD:PUBLISH
X-PUBLISHED-TTL:P3D
REFRESH-INTERVAL:P3D
CALSCALE:GREGORIAN
BEGIN:VEVENT
DTSTART;VALUE=DATE:20190222
DTEND;VALUE=DATE:20190304
TRANSP:TRANSPARENT
X-MICROSOFT-CDO-ALLDAYEVENT:TRUE
SUMMARY:Denver Restaurant Week
DESCRIPTION:Over 200 menus are live on the VISIT DENVER website for Denver Restaurant Week 2019. Take some time to browse through all of the delicious items and don't forget to book your reservations soon. Denver Restaurant Week will take place from February 22 to March 3\, 2019.
X-ALT-DESC;FMTTYPE=text/html:<span style="color:black\;">Over 200 menus are live on the VISIT DENVER website for Denver Restaurant Week 2019. Take some time to browse through all of the delicious items and don&#39\;t forget to book your reservations soon. Denver Restaurant Week will take place from February 22 to March 3\, 2019.&nbsp\;</span><br />\n&nbsp\;
LOCATION:
UID:e.825.3551
SEQUENCE:3
DTSTAMP:20260426T031916Z
URL:https://members.cbcc.biz/events/details/denver-restaurant-week-3551
END:VEVENT

END:VCALENDAR
