BEGIN:VCALENDAR
VERSION:2.0
PRODID:-//ChamberMaster//Event Calendar 2.0//EN
METHOD:PUBLISH
X-PUBLISHED-TTL:P3D
REFRESH-INTERVAL:P3D
CALSCALE:GREGORIAN
BEGIN:VEVENT
DTSTART:20190720T000000Z
DTEND:20190720T020000Z
X-MICROSOFT-CDO-ALLDAYEVENT:FALSE
SUMMARY:Denver Spotlight Series: A celebration of local filmmakers
DESCRIPTION:Run&Shoot Filmworks\, the production company behind the Academy Award -accredited Martha's Vineyard African American Festival (MVAAFF)\, announced today a newly formed partnership with the Robert and Judi Newman Center for the Performing Arts at the University of Denver. Run&Shoot Filmworks\, in collaboration with the Newman Center\, will present The Color of Conversation Film Festival (COCFF)\, which will run from July 18-20\, 2019. The Mile-High City will serve as the perfect backdrop for the COCFF because of its diversity of culture and heritage. With its "must-see" art exhibits and performing and public art spaces\, Denver has emerged as a thriving\, impressive\, and creative landscape.
X-ALT-DESC;FMTTYPE=text/html:Run&amp\;Shoot Filmworks\, the production company behind the Academy Award&reg\;-accredited Martha&rsquo\;s Vineyard African American Festival (MVAAFF)\, announced today a newly formed partnership with the Robert and Judi Newman Center for the Performing Arts at the University of Denver. Run&amp\;Shoot Filmworks\, in collaboration with the Newman Center\, will present The Color of Conversation Film Festival (COCFF)\, which will run from July 18-20\, 2019. The Mile-High City will serve as the perfect backdrop for the COCFF because of its diversity of culture and heritage. With its &ldquo\;must-see&rdquo\; art exhibits and performing and public art spaces\, Denver has emerged as a thriving\, impressive\, and creative landscape.&nbsp\;
LOCATION:Robert and Judi Newman Center for the Performing Arts at Denver University
UID:e.825.3701
SEQUENCE:3
DTSTAMP:20260425T201208Z
URL:https://members.cbcc.biz/events/details/denver-spotlight-series-a-celebration-of-local-filmmakers-3701
END:VEVENT

END:VCALENDAR
