BEGIN:VCALENDAR
VERSION:2.0
PRODID:-//ChamberMaster//Event Calendar 2.0//EN
METHOD:PUBLISH
X-PUBLISHED-TTL:P3D
REFRESH-INTERVAL:P3D
CALSCALE:GREGORIAN
BEGIN:VEVENT
DTSTART:20140131T160000Z
DTEND:20140131T170000Z
X-MICROSOFT-CDO-ALLDAYEVENT:FALSE
SUMMARY:Education Kick Off Committee Meeting
DESCRIPTION:Calling all members! Let's make 2014 the best yet. Join the CBCC Education Committee meeting to plan informative and educational events for 2014. This Committee exists to provide CBCC Members with educational opportunities\, workshops\, and interactive learning experiences.
X-ALT-DESC;FMTTYPE=text/html:<div>\n	<p _mce_style="margin: 0in 0in 0pt\;" style="margin: 0in 0in 0pt\;">\n		Calling all members! Let&#39\;s make 2014 the best yet. Join the CBCC Education Committee meeting to plan informative and educational events for 2014. This Committee exists to provide CBCC Members with educational opportunities\, workshops\, and interactive learning experiences.</p>\n</div>\n
LOCATION:1410 Grant Street\, Suite B104 Denver\, CO 80203
UID:e.825.923
SEQUENCE:3
DTSTAMP:20260420T000129Z
URL:https://members.cbcc.biz/events/details/education-kick-off-committee-meeting-01-31-2014-923
END:VEVENT

END:VCALENDAR
