BEGIN:VCALENDAR
VERSION:2.0
PRODID:-//ChamberMaster//Event Calendar 2.0//EN
METHOD:PUBLISH
X-PUBLISHED-TTL:P3D
REFRESH-INTERVAL:P3D
CALSCALE:GREGORIAN
BEGIN:VEVENT
DTSTART:20170429T150000Z
DTEND:20170429T210000Z
X-MICROSOFT-CDO-ALLDAYEVENT:FALSE
SUMMARY:Especially Me
DESCRIPTION:
X-ALT-DESC;FMTTYPE=text/html:
LOCATION:Gateway High School 1300 South Sable Blvd. Aurora\, CO 80012
UID:e.825.1166
SEQUENCE:3
DTSTAMP:20260419T232149Z
URL:https://members.cbcc.biz/events/details/especially-me-1166
END:VEVENT

END:VCALENDAR
