BEGIN:VCALENDAR
VERSION:2.0
PRODID:-//ChamberMaster//Event Calendar 2.0//EN
METHOD:PUBLISH
X-PUBLISHED-TTL:P3D
REFRESH-INTERVAL:P3D
CALSCALE:GREGORIAN
BEGIN:VEVENT
DTSTART:20190202T170000Z
DTEND:20190203T000000Z
X-MICROSOFT-CDO-ALLDAYEVENT:FALSE
SUMMARY:Free First Saturday at DAM\, Featuring Jordan Casteel: Returning the Gaze
DESCRIPTION:Join us on February 2nd for Free First Saturday at the Denver Art Museum and the OPENING DAY of the highly anticipated exhibition "Jordan Casteel: Returning the Gaze." Be among the first to see this first major museum exhibition of the artist's work. Jordan is a Denver native now based in New York.\n\n\n\n"Jordan Casteel: Returning the Gaze" will be on view at the DAM through August 18\, 2019. This exhibition will be included in general admission\, which is FREE for kids 18 and under as well as all DAM members. Learn more about this exhibition here: https://bit.ly/2rIBPd9\n\n\n\nOn Free First Saturdays\, all visitors can enjoy our non-ticketed exhibitions without spending a dime! Free general admission tickets are available on-site starting at 10 am.\n\n\n\nPlease note\, "Dior: From Paris to the World" is not included in general admission and requires a separate ticket.\n\n\n\nFree First Saturdays are made possible by Your 6 Hometown Toyota Stores and the citizens who support the Scientific and Cultural Facilities District (SCFD). #ThanksSCFD\n\nhttps://bit.ly/2Cmm4zY\n\n\n\nImage: Jordan Casteel\, Benyam\, 2018. Oil on canvas\; 90 x 78 in. The Komal Shah & Gaurav Garg Collection. Image courtesy the artist and Casey Kaplan\, New York   Jordan Casteel
X-ALT-DESC;FMTTYPE=text/html:<span style="color:rgb(29\, 33\, 41)\; font-family:helvetica\,arial\,sans-serif\; font-size:14px">Join us on February 2nd for Free First Saturday at the Denver Art Museum and the OPENING DAY of the highly anticipated exhibition &quot\;Jordan Casteel: Returning the Gaze.&quot\; Be among the first to see this first major museum exhibition of the artist&#39\;s work. Jordan is a Denver native now based in New York.</span><br />\n<br />\n<span style="color:rgb(29\, 33\, 41)\; font-family:helvetica\,arial\,sans-serif\; font-size:14px">&quot\;Jordan Casteel: Returning the Gaze&quot\; will be on view at the DAM through August 18\, 2019. This exhibition will be included in general admission\, which is FREE for kids 18 and under as well as all DAM members. Learn more about this exhibition here: </span><a href="https://bit.ly/2rIBPd9?fbclid=IwAR3bvA_XLa61ngERRAsdPLLv4QOcdEcc3LecJA6O-9tEeOrEaJZxjSfR2gg" rel="nofollow noopener" style="color: rgb(54\, 88\, 153)\; cursor: pointer\; text-decoration-line: none\; font-family: Helvetica\, Arial\, sans-serif\; font-size: 14px\; white-space: pre-wrap\;" target="_blank">https://bit.ly/2rIBPd9</a><br />\n<br />\n<span style="color:rgb(29\, 33\, 41)\; font-family:helvetica\,arial\,sans-serif\; font-size:14px">On Free First Saturdays\, all visitors can enjoy our non-ticketed exhibitions without spending a dime! Free general admission tickets are available on-site starting at 10 am.</span><br />\n<br />\n<span style="color:rgb(29\, 33\, 41)\; font-family:helvetica\,arial\,sans-serif\; font-size:14px">Please note\, &quot\;Dior: From Paris to the World&quot\; is not included in general admission and requires a separate ticket.</span><br />\n<br />\n<span style="color:rgb(29\, 33\, 41)\; font-family:helvetica\,arial\,sans-serif\; font-size:14px">Free First Saturdays are made possible by Your 6 Hometown Toyota Stores and the citizens who support the Scientific and Cultural Facilities District (SCFD). </span><a href="https://www.facebook.com/hashtag/thanksscfd" style="color: rgb(54\, 88\, 153)\; cursor: pointer\; text-decoration-line: none\; font-family: Helvetica\, Arial\, sans-serif\; font-size: 14px\; white-space: pre-wrap\;" target="_blank">#ThanksSCFD</a><br />\n<a href="https://l.facebook.com/l.php?u=https%3A%2F%2Fbit.ly%2F2Cmm4zY%3Ffbclid%3DIwAR2j8KTL2ePEh6KGM4WVwGqXzUdUvu5o8owftiXNPAGKpIXvmR5zQt98CyI&amp\;h=AT33QosYSxgoGis39EnF2MsNI1sMHuOOguQ0FOLesvLUF9sIKP7t3n8aXyJFGVcaj04LUTuBBGhC82whNvFJI_1Tn71wafhM3bK8TMMDkGzq5L67wFp7wtJOwbdNpAP-xw" rel="nofollow noopener" style="color: rgb(54\, 88\, 153)\; cursor: pointer\; text-decoration-line: none\; font-family: Helvetica\, Arial\, sans-serif\; font-size: 14px\; white-space: pre-wrap\;" target="_blank">https://bit.ly/2Cmm4zY</a><br />\n<br />\n<span style="color:rgb(29\, 33\, 41)\; font-family:helvetica\,arial\,sans-serif\; font-size:14px">Image: Jordan Casteel\, Benyam\, 2018. Oil on canvas\; 90 x 78 in. The Komal Shah &amp\; Gaurav Garg Collection. Image courtesy the artist and Casey Kaplan\, New York &copy\; Jordan Casteel</span>
LOCATION:Denver Art Museum 100 W. 14th Ave. Parkway Denver\, CO 80204
UID:e.825.3543
SEQUENCE:3
DTSTAMP:20260426T032241Z
URL:https://members.cbcc.biz/events/details/free-first-saturday-at-dam-featuring-jordan-casteel-returning-the-gaze-3543
END:VEVENT

END:VCALENDAR
