BEGIN:VCALENDAR
VERSION:2.0
PRODID:-//ChamberMaster//Event Calendar 2.0//EN
METHOD:PUBLISH
X-PUBLISHED-TTL:P3D
REFRESH-INTERVAL:P3D
CALSCALE:GREGORIAN
BEGIN:VEVENT
DTSTART:20190227T170000Z
DTEND:20190227T210000Z
X-MICROSOFT-CDO-ALLDAYEVENT:FALSE
SUMMARY:Free Tax Preperation: Operation Hope/ Denver Tax Building Coalition
DESCRIPTION:The Denver Asset Building Coalition (DABC) will be offerinf FREE Valet (Drop-Off and Pick-up) tax prep services for low-income people. First Come First Served. No Appointment Necessary!!\n\n\n\nWhat is it?\n\nValet VITA free tax prep (current year federal AND Colorado returns). Drop off your tax documents and come back the next week same time/same place to sign and receive your completed returns.\n\n\n\nWho can participate?\n\nSingle Filers with income of $35\,000 or less\; Families with $55\,000 or less.\n\n\n\nWhere are services offered?\n\nOperation Hope@ 10401 E. Colfax Ave\, Aurora\, CO 80010\n\n\n\nFor more information\, including what to bring\,\n\nplease visit DABC's website at www.DenverABC.org\, or call (303) 388-7030
X-ALT-DESC;FMTTYPE=text/html:The Denver Asset Building Coalition (DABC) will be offerinf FREE Valet (Drop-Off and Pick-up) tax prep services for low-income people. First Come First Served. No Appointment Necessary!!<br>\n<br>\nWhat is it?<br>\nValet VITA free tax prep (current year federal AND Colorado returns). Drop off your tax documents and come back the next week same time/same place to sign and receive your completed returns.<br>\n<br>\nWho can participate?<br>\nSingle Filers with income of $35\,000 or less\; Families with $55\,000 or less.<br>\n<br>\nWhere are services offered?<br>\nOperation Hope@ 10401 E. Colfax Ave\, Aurora\, CO 80010<br>\n<br>\nFor more information\, including what to bring\,<br>\nplease visit DABC's website at www.DenverABC.org\, or call (303) 388-7030
LOCATION:Operation Hope@ 10401 E. Colfax Ave\, Aurora\, CO 80010
UID:e.825.3575
SEQUENCE:3
DTSTAMP:20260426T032432Z
URL:https://members.cbcc.biz/events/details/free-tax-preperation-operation-hope-denver-tax-building-coalition-02-27-2019-3575
END:VEVENT

END:VCALENDAR
