BEGIN:VCALENDAR
VERSION:2.0
PRODID:-//ChamberMaster//Event Calendar 2.0//EN
METHOD:PUBLISH
X-PUBLISHED-TTL:P3D
REFRESH-INTERVAL:P3D
CALSCALE:GREGORIAN
BEGIN:VEVENT
DTSTART:20140131T173000Z
DTEND:20140131T183000Z
X-MICROSOFT-CDO-ALLDAYEVENT:FALSE
SUMMARY:Fundraising Kick Off Committee Meeting
DESCRIPTION:Get more involved in the black business community and join the Fundraising Committee. This kick-off meeting will allow the Committee to plan for an eventful 2014. Even if you've never participated on this Committee before\, we welcome you and look forward to working together.
X-ALT-DESC;FMTTYPE=text/html:Get more&nbsp\;involved in the black business community and join the Fundraising Committee. This kick-off meeting will allow the Committee to plan for an eventful 2014. Even if you&#39\;ve never&nbsp\;participated on this Committee before\, we welcome you and look forward to working together.
LOCATION:1410 Grant Street\, Suite B104 Denver\, CO 80203
UID:e.825.924
SEQUENCE:3
DTSTAMP:20260421T024020Z
URL:https://members.cbcc.biz/events/details/fundraising-kick-off-committee-meeting-01-31-2014-924
END:VEVENT

END:VCALENDAR
