BEGIN:VCALENDAR
VERSION:2.0
PRODID:-//ChamberMaster//Event Calendar 2.0//EN
METHOD:PUBLISH
X-PUBLISHED-TTL:P3D
REFRESH-INTERVAL:P3D
CALSCALE:GREGORIAN
BEGIN:VEVENT
DTSTART:20170304T150000Z
DTEND:20170304T220000Z
X-MICROSOFT-CDO-ALLDAYEVENT:FALSE
SUMMARY:HBCU College Fair 2017
DESCRIPTION:CONFERENCE HIGHLIGHTS\n\nHBCU Collge & Universities \n\nOnsite College Representatives\n\nOnsite College Recruiters \n\n\n\nWORKSHOPS \n\nRequired Courses\n\nChoosing a College\n\nFinancial Strategies\n\n\n\nHIGH SCHOOL SENIORS\n\nBring Several Transcripts & Essays \n\nDress for Success \n\nReception for Seniors & Parents: FRIDAY\, MARCH 3RD\, 5:30-7:30PM \n\nHoliday Inn- Denver East Stapleton \n\n3333 Quebec St. Denver\, CO 80207
X-ALT-DESC;FMTTYPE=text/html:<strong><span style="color: rgb(75\, 79\, 86)\; font-family: Helvetica\, Arial\, sans-serif\; font-size: 14px\; line-height: 18.76px\; background-color: rgb(255\, 255\, 255)\;">CONFERENCE HIGHLIGHTS</span></strong><br style="color: rgb(75\, 79\, 86)\; font-family: Helvetica\, Arial\, sans-serif\; font-size: 14px\; line-height: 18.76px\; background-color: rgb(255\, 255\, 255)\;" />\n<span style="color: rgb(75\, 79\, 86)\; font-family: Helvetica\, Arial\, sans-serif\; font-size: 14px\; line-height: 18.76px\; background-color: rgb(255\, 255\, 255)\;">HBCU Collge &amp\; Universities&nbsp\;</span><br style="color: rgb(75\, 79\, 86)\; font-family: Helvetica\, Arial\, sans-serif\; font-size: 14px\; line-height: 18.76px\; background-color: rgb(255\, 255\, 255)\;" />\n<span style="color: rgb(75\, 79\, 86)\; font-family: Helvetica\, Arial\, sans-serif\; font-size: 14px\; line-height: 18.76px\; background-color: rgb(255\, 255\, 255)\;">Onsite College Representatives</span><br style="color: rgb(75\, 79\, 86)\; font-family: Helvetica\, Arial\, sans-serif\; font-size: 14px\; line-height: 18.76px\; background-color: rgb(255\, 255\, 255)\;" />\n<span style="color: rgb(75\, 79\, 86)\; font-family: Helvetica\, Arial\, sans-serif\; font-size: 14px\; line-height: 18.76px\; background-color: rgb(255\, 255\, 255)\;">Onsite College Recruiters&nbsp\;</span><br style="color: rgb(75\, 79\, 86)\; font-family: Helvetica\, Arial\, sans-serif\; font-size: 14px\; line-height: 18.76px\; background-color: rgb(255\, 255\, 255)\;" />\n<br style="color: rgb(75\, 79\, 86)\; font-family: Helvetica\, Arial\, sans-serif\; font-size: 14px\; line-height: 18.76px\; background-color: rgb(255\, 255\, 255)\;" />\n<strong><span style="color: rgb(75\, 79\, 86)\; font-family: Helvetica\, Arial\, sans-serif\; font-size: 14px\; line-height: 18.76px\; background-color: rgb(255\, 255\, 255)\;">WORKSHOPS&nbsp\;</span></strong><br style="color: rgb(75\, 79\, 86)\; font-family: Helvetica\, Arial\, sans-serif\; font-size: 14px\; line-height: 18.76px\; background-color: rgb(255\, 255\, 255)\;" />\n<span style="color: rgb(75\, 79\, 86)\; font-family: Helvetica\, Arial\, sans-serif\; font-size: 14px\; line-height: 18.76px\; background-color: rgb(255\, 255\, 255)\;">Required Courses</span><br style="color: rgb(75\, 79\, 86)\; font-family: Helvetica\, Arial\, sans-serif\; font-size: 14px\; line-height: 18.76px\; background-color: rgb(255\, 255\, 255)\;" />\n<span style="color: rgb(75\, 79\, 86)\; font-family: Helvetica\, Arial\, sans-serif\; font-size: 14px\; line-height: 18.76px\; background-color: rgb(255\, 255\, 255)\;">Choosing a College</span><br style="color: rgb(75\, 79\, 86)\; font-family: Helvetica\, Arial\, sans-serif\; font-size: 14px\; line-height: 18.76px\; background-color: rgb(255\, 255\, 255)\;" />\n<span style="color: rgb(75\, 79\, 86)\; font-family: Helvetica\, Arial\, sans-serif\; font-size: 14px\; line-height: 18.76px\; background-color: rgb(255\, 255\, 255)\;">Financial Strategies</span><br style="color: rgb(75\, 79\, 86)\; font-family: Helvetica\, Arial\, sans-serif\; font-size: 14px\; line-height: 18.76px\; background-color: rgb(255\, 255\, 255)\;" />\n<br style="color: rgb(75\, 79\, 86)\; font-family: Helvetica\, Arial\, sans-serif\; font-size: 14px\; line-height: 18.76px\; background-color: rgb(255\, 255\, 255)\;" />\n<strong><span style="color: rgb(75\, 79\, 86)\; font-family: Helvetica\, Arial\, sans-serif\; font-size: 14px\; line-height: 18.76px\; background-color: rgb(255\, 255\, 255)\;">HIGH SCHOOL SENIORS</span></strong><br style="color: rgb(75\, 79\, 86)\; font-family: Helvetica\, Arial\, sans-serif\; font-size: 14px\; line-height: 18.76px\; background-color: rgb(255\, 255\, 255)\;" />\n<span style="color: rgb(75\, 79\, 86)\; font-family: Helvetica\, Arial\, sans-serif\; font-size: 14px\; line-height: 18.76px\; background-color: rgb(255\, 255\, 255)\;">Bring Several Transcripts &amp\; Essays&nbsp\;</span><br />\n<span class="text_exposed_show" style="display: inline\; color: rgb(75\, 79\, 86)\; font-family: Helvetica\, Arial\, sans-serif\; font-size: 14px\; line-height: 18.76px\; background-color: rgb(255\, 255\, 255)\;">Dress for Success&nbsp\;<br />\nReception for Seniors &amp\; Parents: FRIDAY\, MARCH 3RD\, 5:30-7:30PM&nbsp\;<br />\nHoliday Inn- Denver East Stapleton&nbsp\;<br />\n3333 Quebec St. Denver\, CO 80207</span>
LOCATION:East High School 1600 City Park Esplanade Denver\, CO 80206
UID:e.825.1160
SEQUENCE:3
DTSTAMP:20260419T191517Z
URL:https://members.cbcc.biz/events/details/hbcu-college-fair-2017-1160
END:VEVENT

END:VCALENDAR
