BEGIN:VCALENDAR
VERSION:2.0
PRODID:-//ChamberMaster//Event Calendar 2.0//EN
METHOD:PUBLISH
X-PUBLISHED-TTL:P3D
REFRESH-INTERVAL:P3D
CALSCALE:GREGORIAN
BEGIN:VEVENT
DTSTART:20190302T153000Z
DTEND:20190302T223000Z
X-MICROSOFT-CDO-ALLDAYEVENT:FALSE
SUMMARY:HBCU/HSI COLLEGE FAIR 2019
DESCRIPTION:SATURDAY\, MARCH 2nd  8:30 AM - 3:30 PM\n\nEAST HIGH SCHOOL - 1600 CITY PARK ESPLANADE\n\nDENVER\, CO 80206   \n\n \n\nMEET HBCU REPRESENTATIVES\n\nBennett College     Florida A&M University\n\nLangston University     Morehouse College\n\nNorth Carolina Central University\n\nSavannah State University\n\nSpelman College     Texas Southern University\n\nTougaloo College     Wilberforce University\n\n \n\nINSPIRING SPEAKERS\n\n \n\nWORKSHOPS\n\nLeadership Exercises \n\nManaging Required Courses\n\nSurviving the Choices of Campus Life \n\nChoosing A College\n\n  Financial Strategies\n\nRECEPTION FOR\n\nHIGH SCHOOL SENIORS & PARENTS\n\n6:00 PM - 8:00 PM    FRIDAY\, MARCH 1st\n\nHOLIDAY INN - STAPLETON    \n\n3333 QUEBEC ST.  DENVER\, CO 80207
X-ALT-DESC;FMTTYPE=text/html:<p class="font_8" style="text-align:center\;">&nbsp\; <span style="font-size:20px\;"><span style="font-family:helvetica-w01-bold\,helvetica-w02-bold\,helvetica-lt-w10-bold\,sans-serif\;">&nbsp\;</span></span><span style="font-weight:bold\;"><span style="font-size:18px\;"><span style="font-family:helvetica-w01-bold\,helvetica-w02-bold\,helvetica-lt-w10-bold\,sans-serif\;">SATURDAY\, MARCH 2nd&nbsp\; 8:30 AM - 3:30 PM</span></span></span></p>\n\n<p class="font_8" style="font-size:12px\; text-align:center\;"><span style="font-size:12px\;"><span style="font-family:helvetica-w01-bold\,helvetica-w02-bold\,helvetica-lt-w10-bold\,sans-serif\;">EAST HIGH SCHOOL -&nbsp\;1600 CITY PARK ESPLANADE</span></span></p>\n\n<p class="font_8" style="font-size:15px\; text-align:center\;"><span style="font-size:12px\;"><span style="font-family:helvetica-w01-bold\,helvetica-w02-bold\,helvetica-lt-w10-bold\,sans-serif\;">DENVER\, CO 80206</span></span><span style="font-weight:bold\;"><span style="font-size:12px\;">&nbsp\;</span><span style="font-size:15px\;"> &nbsp\;</span></span></p>\n\n<p class="font_8" style="text-align:center\;"><span class="inherit-font-size" style="font-size:11px\;"><span class="wixGuard">&#8203\;</span></span></p>\n\n<p class="font_8" style="font-size:18px\; text-align:center\;"><span style="font-size:18px\;"><span style="font-family:helvetica-w01-bold\,helvetica-w02-bold\,helvetica-lt-w10-bold\,sans-serif\;"><span style="color:#8B0000\;">MEET HBCU REPRESENTATIVES</span></span></span></p>\n\n<p class="font_8" style="font-size:14px\; text-align:center\;"><span style="font-size:14px\;"><span style="color:#045184\;"><span style="font-family:helvetica-w01-roman\,helvetica-w02-roman\,helvetica-lt-w10-roman\,sans-serif\;"><a data-content="http://www.bennett.edu" data-type="external" href="http://www.bennett.edu" rel="undefined" target="_blank">Bennett College </a>&nbsp\; &nbsp\; <a data-content="https://www.famu.edu" data-type="external" href="https://www.famu.edu" rel="undefined" target="_blank">Florida A&amp\;M University</a></span></span></span></p>\n\n<p class="font_8" style="font-size:14px\; text-align:center\;"><span style="font-size:14px\;"><span style="color:#045184\;"><span style="font-family:helvetica-w01-roman\,helvetica-w02-roman\,helvetica-lt-w10-roman\,sans-serif\;"><a data-content="https://www.langston.edu" data-type="external" href="https://www.langston.edu" rel="undefined" target="_blank">Langston University</a> &nbsp\; &nbsp\; <a data-content="http://www.morehouse.edu" data-type="external" href="http://www.morehouse.edu" rel="undefined" target="_blank">Morehouse College</a></span></span></span></p>\n\n<p class="font_8" style="font-size:14px\; text-align:center\;"><span style="font-size:14px\;"><span style="color:#045184\;"><a data-content="http://www.nccu.edu" data-type="external" href="http://www.nccu.edu" rel="undefined" target="_blank"><span style="font-family:helvetica-w01-roman\,helvetica-w02-roman\,helvetica-lt-w10-roman\,sans-serif\;">North Carolina Central University</span></a></span></span></p>\n\n<p class="font_8" style="font-size:14px\; text-align:center\;"><span style="font-size:14px\;"><span style="color:#045184\;"><a data-content="https://www.savannahstate.edu" data-type="external" href="https://www.savannahstate.edu" rel="undefined" target="_blank"><span style="font-family:helvetica-w01-roman\,helvetica-w02-roman\,helvetica-lt-w10-roman\,sans-serif\;">Savannah State University</span></a></span></span></p>\n\n<p class="font_8" style="font-size:14px\; text-align:center\;"><span style="font-size:14px\;"><span style="color:#045184\;"><span style="font-family:helvetica-w01-roman\,helvetica-w02-roman\,helvetica-lt-w10-roman\,sans-serif\;"><a data-content="https://www.spelman.edu" data-type="external" href="https://www.spelman.edu" rel="undefined" target="_blank">Spelman College</a> &nbsp\; &nbsp\; T<a data-content="http://www.tsu.edu" data-type="external" href="http://www.tsu.edu" rel="undefined" target="_blank">exas Southern University</a></span></span></span></p>\n\n<p class="font_8" style="font-size:14px\; text-align:center\;"><span style="font-size:14px\;"><span style="color:#045184\;"><span style="font-family:helvetica-w01-roman\,helvetica-w02-roman\,helvetica-lt-w10-roman\,sans-serif\;"><a data-content="https://www.tougaloo.edu" data-type="external" href="https://www.tougaloo.edu" rel="undefined" target="_blank">Tougaloo Colleg</a>e</span> &nbsp\; &nbsp\; <a data-content="https://www.wilberforce.edu" data-type="external" href="https://www.wilberforce.edu" rel="undefined" target="_blank"><span style="font-family:helvetica-w01-roman\,helvetica-w02-roman\,helvetica-lt-w10-roman\,sans-serif\;">Wilberforce University</span></a></span></span></p>\n\n<p class="font_8" style="font-size:14px\; text-align:center\;"><span class="inherit-font-size" style="font-size:15px\;"><span style="font-family:helvetica-w01-roman\,helvetica-w02-roman\,helvetica-lt-w10-roman\,sans-serif\;"><span class="wixGuard">&#8203\;</span></span></span></p>\n\n<p class="font_8" style="font-size:18px\; text-align:center\;"><span style="font-size:18px\;"><span style="font-family:helvetica-w01-bold\,helvetica-w02-bold\,helvetica-lt-w10-bold\,sans-serif\;"><span style="color:#8B0000\;">INSPIRING SPEAKERS</span></span></span></p>\n\n<p class="font_8" style="text-align:center\;"><span class="wixGuard">&#8203\;</span></p>\n\n<p class="font_8" style="font-size:18px\; text-align:center\;"><span style="font-size:18px\;"><span style="font-family:helvetica-w01-bold\,helvetica-w02-bold\,helvetica-lt-w10-bold\,sans-serif\;"><span style="color:#8B0000\;">WORKSHOPS</span></span></span></p>\n\n<p class="font_8" style="text-align:center\; font-size:14px\;"><span style="font-size:14px\;"><span style="color:#000000\;"><span style="font-family:helvetica-w01-roman\,helvetica-w02-roman\,helvetica-lt-w10-roman\,sans-serif\;">Leadership Exercises&nbsp\;</span></span></span></p>\n\n<p class="font_8" style="text-align:center\; font-size:14px\;"><span style="font-size:14px\;"><span style="color:#000000\;"><span style="font-family:helvetica-w01-roman\,helvetica-w02-roman\,helvetica-lt-w10-roman\,sans-serif\;">Managing Required Courses</span></span></span></p>\n\n<p class="font_8" style="text-align:center\; font-size:14px\;"><span style="font-size:14px\;"><span style="color:#000000\;"><span style="font-family:helvetica-w01-roman\,helvetica-w02-roman\,helvetica-lt-w10-roman\,sans-serif\;">Surviving the Choices of Campus Life&nbsp\;<br />\nChoosing A College<br />\n&nbsp\; Financial Strategies</span></span></span></p>\n\n<p class="font_8" style="font-size:17px\; text-align:center\;"><span style="font-size:17px\;"><span style="font-family:helvetica-w01-bold\,helvetica-w02-bold\,helvetica-lt-w10-bold\,sans-serif\;"><span style="color:#8B0000\;">RECEPTION FOR</span></span></span></p>\n\n<p class="font_8" style="font-size:17px\; text-align:center\;"><span style="font-size:17px\;"><span style="font-family:helvetica-w01-bold\,helvetica-w02-bold\,helvetica-lt-w10-bold\,sans-serif\;"><span style="color:#8B0000\;">HIGH SCHOOL SENIORS &amp\; PARENTS</span></span></span></p>\n\n<p class="font_8" style="font-size:10px\; text-align:center\;"><span style="color:#2B6CA3\;"><span style="font-family:arial black\,arial-w01-black\,arial-w02-black\,arial-w10 black\,sans-serif\;"><span style="font-size:10px\;">6:00 PM - 8:00 PM &nbsp\; &nbsp\;FRIDAY\, MARCH 1st</span></span></span></p>\n\n<p class="font_8" style="font-size:10px\; text-align:center\;"><span style="color:#2B6CA3\;"><span style="font-family:arial black\,arial-w01-black\,arial-w02-black\,arial-w10 black\,sans-serif\;"><span style="font-size:10px\;">HO</span><span style="font-size:10px\;">LIDAY INN - STAPLETON &nbsp\;&nbsp\; </span></span></span></p>\n\n<p class="font_8" style="font-size:10px\; text-align:center\;"><span style="color:#2B6CA3\;"><span style="font-family:arial black\,arial-w01-black\,arial-w02-black\,arial-w10 black\,sans-serif\;"><span style="font-size:10px\;">3333 QUEBEC ST.&nbsp\; DENVER\, CO 80207</span></span></span></p>\n
LOCATION:EAST HIGH SCHOOL - 1600 CITY PARK ESPLANADE DENVER\, CO 80206
UID:e.825.3567
SEQUENCE:3
DTSTAMP:20260426T015951Z
URL:https://members.cbcc.biz/events/details/hbcu-hsi-college-fair-2019-3567
END:VEVENT

END:VCALENDAR
