BEGIN:VCALENDAR
VERSION:2.0
PRODID:-//ChamberMaster//Event Calendar 2.0//EN
METHOD:PUBLISH
X-PUBLISHED-TTL:P3D
REFRESH-INTERVAL:P3D
CALSCALE:GREGORIAN
BEGIN:VEVENT
DTSTART:20190814T143000Z
DTEND:20190814T163000Z
X-MICROSOFT-CDO-ALLDAYEVENT:FALSE
SUMMARY:Healthcare: What’s Next For Small Businesses?
DESCRIPTION:The Colorado Black Chamber (CBCC) and \n\nthe Small Business Majority invite you to join us for  \n \n\n"Healthcare: What's Next\n\n For Small Businesses?"\n\n  A panel discussion on health insurance \n\noptions for your small business\n\nWednesday\, August 14\, 2018 \n \n\nWhen:    Wednesday\, August 14th    \n\n  8:30am to 10:30am\n \n\nWhere:    Diverse Business Center\n\n        444 Sherman St. Denver\, CO 80203\n\n                               Classroom A \n \n\nWhat:    This free presentation will help you navigate the health insurance options for your small business.  In our interactive workshop we'll focus on the advantages of public and private insurance choices.  \n\nWho:    Colorado Black Chamber\, Small Business Majority\, Connect for Health Colorado and the Colorado Consumer Health Initiative.
X-ALT-DESC;FMTTYPE=text/html:&nbsp\;\n<p dir="ltr" style="background-color: transparent\; color: rgb(0\, 0\, 0)\; font-family: Times New Roman\; font-size: 16px\; font-style: normal\; font-variant: normal\; font-weight: 400\; letter-spacing: normal\; line-height: 20.72px\; margin-bottom: 10.66px\; margin-top: 0px\; orphans: 2\; text-align: center\; text-decoration: none\; text-indent: 48px\; text-transform: none\; -webkit-text-stroke-width: 0px\; white-space: normal\; word-spacing: 0px\;"><span style="background-color: transparent\; color: rgb(0\, 0\, 0)\; font-family: Calibri\,sans-serif\; font-size: 18.66px\; font-style: normal\; font-variant: normal\; font-weight: 400\; text-decoration: none\; vertical-align: baseline\; white-space: pre-wrap\;">The Colorado Black Chamber (CBCC) and&nbsp\;</span></p>\n\n<p dir="ltr" style="background-color: transparent\; color: rgb(0\, 0\, 0)\; font-family: Times New Roman\; font-size: 16px\; font-style: normal\; font-variant: normal\; font-weight: 400\; letter-spacing: normal\; line-height: 20.72px\; margin-bottom: 10.66px\; margin-top: 0px\; orphans: 2\; text-align: center\; text-decoration: none\; text-indent: 48px\; text-transform: none\; -webkit-text-stroke-width: 0px\; white-space: normal\; word-spacing: 0px\;"><span style="background-color: transparent\; color: rgb(0\, 0\, 0)\; font-family: Calibri\,sans-serif\; font-size: 18.66px\; font-style: normal\; font-variant: normal\; font-weight: 400\; text-decoration: none\; vertical-align: baseline\; white-space: pre-wrap\;">the Small Business Majority invite you to join us for&nbsp\;&nbsp\;</span></p>\n&nbsp\;\n\n<p dir="ltr" style="background-color: transparent\; color: rgb(0\, 0\, 0)\; font-family: Times New Roman\; font-size: 16px\; font-style: normal\; font-variant: normal\; font-weight: 400\; letter-spacing: normal\; line-height: 19.2px\; margin-bottom: 0px\; margin-top: 0px\; orphans: 2\; text-align: center\; text-decoration: none\; text-indent: 0px\; text-transform: none\; -webkit-text-stroke-width: 0px\; white-space: normal\; word-spacing: 0px\;"><span style="background-color: transparent\; color: rgb(0\, 0\, 0)\; font-family: Calibri\,sans-serif\; font-size: 37.33px\; font-style: italic\; font-variant: normal\; font-weight: 400\; text-decoration: none\; vertical-align: baseline\; white-space: pre-wrap\;">&ldquo\;Healthcare: What&rsquo\;s Next</span></p>\n\n<p dir="ltr" style="background-color: transparent\; color: rgb(0\, 0\, 0)\; font-family: Times New Roman\; font-size: 16px\; font-style: normal\; font-variant: normal\; font-weight: 400\; letter-spacing: normal\; line-height: 19.2px\; margin-bottom: 0px\; margin-top: 0px\; orphans: 2\; text-align: center\; text-decoration: none\; text-indent: 0px\; text-transform: none\; -webkit-text-stroke-width: 0px\; white-space: normal\; word-spacing: 0px\;"><span style="background-color: transparent\; color: rgb(0\, 0\, 0)\; font-family: Calibri\,sans-serif\; font-size: 37.33px\; font-style: italic\; font-variant: normal\; font-weight: 400\; text-decoration: none\; vertical-align: baseline\; white-space: pre-wrap\;">&nbsp\;For Small Businesses?&rdquo\;</span></p>\n\n<p dir="ltr" style="background-color: transparent\; color: rgb(0\, 0\, 0)\; font-family: Times New Roman\; font-size: 16px\; font-style: normal\; font-variant: normal\; font-weight: 400\; letter-spacing: normal\; line-height: 19.2px\; margin-bottom: 0px\; margin-top: 0px\; orphans: 2\; text-align: center\; text-decoration: none\; text-indent: 0px\; text-transform: none\; -webkit-text-stroke-width: 0px\; white-space: normal\; word-spacing: 0px\;"><span style="background-color: transparent\; color: rgb(0\, 0\, 0)\; font-family: Calibri\,sans-serif\; font-size: 37.33px\; font-style: italic\; font-variant: normal\; font-weight: 400\; text-decoration: none\; vertical-align: baseline\; white-space: pre-wrap\;">&nbsp\;&nbsp\;</span><span style="background-color: transparent\; color: rgb(0\, 0\, 0)\; font-family: Calibri\,sans-serif\; font-size: 32px\; font-style: italic\; font-variant: normal\; font-weight: 400\; text-decoration: none\; vertical-align: baseline\; white-space: pre-wrap\;">A panel discussion on health insurance&nbsp\;</span></p>\n\n<p dir="ltr" style="background-color: transparent\; color: rgb(0\, 0\, 0)\; font-family: Times New Roman\; font-size: 16px\; font-style: normal\; font-variant: normal\; font-weight: 400\; letter-spacing: normal\; line-height: 19.2px\; margin-bottom: 0px\; margin-top: 0px\; orphans: 2\; text-align: center\; text-decoration: none\; text-indent: 0px\; text-transform: none\; -webkit-text-stroke-width: 0px\; white-space: normal\; word-spacing: 0px\;"><span style="background-color: transparent\; color: rgb(0\, 0\, 0)\; font-family: Calibri\,sans-serif\; font-size: 32px\; font-style: italic\; font-variant: normal\; font-weight: 400\; text-decoration: none\; vertical-align: baseline\; white-space: pre-wrap\;">options for your small business</span></p>\n\n<p dir="ltr" style="background-color: transparent\; color: rgb(0\, 0\, 0)\; font-family: Times New Roman\; font-size: 16px\; font-style: normal\; font-variant: normal\; font-weight: 400\; letter-spacing: normal\; line-height: 19.2px\; margin-bottom: 0px\; margin-top: 0px\; orphans: 2\; text-align: center\; text-decoration: none\; text-indent: 0px\; text-transform: none\; -webkit-text-stroke-width: 0px\; white-space: normal\; word-spacing: 0px\;"><span style="background-color: transparent\; color: rgb(0\, 0\, 0)\; font-family: Calibri\,sans-serif\; font-size: 34.66px\; font-style: normal\; font-variant: normal\; font-weight: 400\; text-decoration: none\; vertical-align: baseline\; white-space: pre-wrap\;">Wednesday\, August 14\, 2018&nbsp\;</span></p>\n&nbsp\;\n\n<p dir="ltr" style="background-color: transparent\; color: rgb(0\, 0\, 0)\; font-family: Times New Roman\; font-size: 16px\; font-style: normal\; font-variant: normal\; font-weight: 400\; letter-spacing: normal\; line-height: 19.2px\; margin-bottom: 0px\; margin-top: 0px\; orphans: 2\; text-align: left\; text-decoration: none\; text-indent: 48px\; text-transform: none\; -webkit-text-stroke-width: 0px\; white-space: normal\; word-spacing: 0px\;"><span style="background-color: transparent\; color: rgb(0\, 0\, 0)\; font-family: Calibri\,sans-serif\; font-size: 21.33px\; font-style: normal\; font-variant: normal\; font-weight: 400\; text-decoration: none\; vertical-align: baseline\; white-space: pre-wrap\;">When:</span><span style="background-color: transparent\; color: rgb(0\, 0\, 0)\; font-family: Calibri\,sans-serif\; font-size: 21.33px\; font-style: normal\; font-variant: normal\; font-weight: 400\; text-decoration: none\; vertical-align: baseline\; white-space: pre-wrap\;">&nbsp\;&nbsp\;&nbsp\; </span><span style="background-color: transparent\; color: rgb(0\, 0\, 0)\; font-family: Calibri\,sans-serif\; font-size: 21.33px\; font-style: normal\; font-variant: normal\; font-weight: 400\; text-decoration: none\; vertical-align: baseline\; white-space: pre-wrap\;">Wednesday\, August 14</span><span style="background-color: transparent\; color: rgb(0\, 0\, 0)\; font-family: Calibri\,sans-serif\; font-size: 12.8px\; font-style: normal\; font-variant: normal\; font-weight: 400\; text-decoration: none\; vertical-align: super\; white-space: pre-wrap\;">th</span><span style="background-color: transparent\; color: rgb(0\, 0\, 0)\; font-family: Calibri\,sans-serif\; font-size: 21.33px\; font-style: normal\; font-variant: normal\; font-weight: 400\; text-decoration: none\; vertical-align: baseline\; white-space: pre-wrap\;"> </span><span style="background-color: transparent\; color: rgb(0\, 0\, 0)\; font-family: Calibri\,sans-serif\; font-size: 21.33px\; font-style: normal\; font-variant: normal\; font-weight: 400\; text-decoration: none\; vertical-align: baseline\; white-space: pre-wrap\;">&nbsp\;&nbsp\;&nbsp\;<br />\n&#8203\; </span><span style="background-color: transparent\; color: rgb(0\, 0\, 0)\; font-family: Calibri\,sans-serif\; font-size: 21.33px\; font-style: normal\; font-variant: normal\; font-weight: 400\; text-decoration: none\; vertical-align: baseline\; white-space: pre-wrap\;">8:30am to 10:30am</span></p>\n&nbsp\;\n\n<p dir="ltr" style="background-color: transparent\; color: rgb(0\, 0\, 0)\; font-family: Times New Roman\; font-size: 16px\; font-style: normal\; font-variant: normal\; font-weight: 400\; letter-spacing: normal\; line-height: 19.2px\; margin-bottom: 0px\; margin-top: 0px\; orphans: 2\; text-align: left\; text-decoration: none\; text-indent: 48px\; text-transform: none\; -webkit-text-stroke-width: 0px\; white-space: normal\; word-spacing: 0px\;"><span style="background-color: transparent\; color: rgb(0\, 0\, 0)\; font-family: Calibri\,sans-serif\; font-size: 21.33px\; font-style: normal\; font-variant: normal\; font-weight: 400\; text-decoration: none\; vertical-align: baseline\; white-space: pre-wrap\;">Where:</span><span style="background-color: transparent\; color: rgb(0\, 0\, 0)\; font-family: Calibri\,sans-serif\; font-size: 21.33px\; font-style: normal\; font-variant: normal\; font-weight: 400\; text-decoration: none\; vertical-align: baseline\; white-space: pre-wrap\;">&nbsp\;&nbsp\;&nbsp\; </span><span style="background-color: transparent\; color: rgb(0\, 0\, 0)\; font-family: Calibri\,sans-serif\; font-size: 21.33px\; font-style: normal\; font-variant: normal\; font-weight: 400\; text-decoration: none\; vertical-align: baseline\; white-space: pre-wrap\;">Diverse Business Center</span></p>\n\n<p dir="ltr" style="background-color: transparent\; color: rgb(0\, 0\, 0)\; font-family: Times New Roman\; font-size: 16px\; font-style: normal\; font-variant: normal\; font-weight: 400\; letter-spacing: normal\; line-height: 19.2px\; margin-bottom: 0px\; margin-top: 0px\; orphans: 2\; text-align: left\; text-decoration: none\; text-indent: 48px\; text-transform: none\; -webkit-text-stroke-width: 0px\; white-space: normal\; word-spacing: 0px\;"><span style="background-color: transparent\; color: rgb(0\, 0\, 0)\; font-family: Calibri\,sans-serif\; font-size: 21.33px\; font-style: normal\; font-variant: normal\; font-weight: 400\; text-decoration: none\; vertical-align: baseline\; white-space: pre-wrap\;">&nbsp\;&nbsp\;&nbsp\; </span><span style="background-color: transparent\; color: rgb(0\, 0\, 0)\; font-family: Calibri\,sans-serif\; font-size: 21.33px\; font-style: normal\; font-variant: normal\; font-weight: 400\; text-decoration: none\; vertical-align: baseline\; white-space: pre-wrap\;">&nbsp\;&nbsp\;&nbsp\; </span><span style="background-color: transparent\; color: rgb(0\, 0\, 0)\; font-family: Calibri\,sans-serif\; font-size: 21.33px\; font-style: normal\; font-variant: normal\; font-weight: 400\; text-decoration: none\; vertical-align: baseline\; white-space: pre-wrap\;">444 Sherman St. Denver\, CO 80203</span><br />\n&nbsp\; &nbsp\; &nbsp\; &nbsp\; &nbsp\; &nbsp\; &nbsp\; &nbsp\; &nbsp\; &nbsp\; &nbsp\; &nbsp\; &nbsp\; &nbsp\; &nbsp\;&nbsp\; Classroom A&nbsp\;</p>\n&nbsp\;\n\n<p dir="ltr" style="background-color: transparent\; color: rgb(0\, 0\, 0)\; font-family: Times New Roman\; font-size: 16px\; font-style: normal\; font-variant: normal\; font-weight: 400\; letter-spacing: normal\; line-height: 20.72px\; margin-bottom: 10.66px\; margin-left: 48px\; margin-top: 0px\; orphans: 2\; padding-bottom: 0px\; padding-left: 96px\; padding-right: 0px\; padding-top: 0px\; text-align: left\; text-decoration: none\; text-indent: -96px\; text-transform: none\; -webkit-text-stroke-width: 0px\; white-space: normal\; word-spacing: 0px\;"><span style="background-color: transparent\; color: rgb(0\, 0\, 0)\; font-family: Calibri\,sans-serif\; font-size: 21.33px\; font-style: normal\; font-variant: normal\; font-weight: 400\; text-decoration: none\; vertical-align: baseline\; white-space: pre-wrap\;">What:</span><span style="background-color: transparent\; color: rgb(0\, 0\, 0)\; font-family: Calibri\,sans-serif\; font-size: 21.33px\; font-style: normal\; font-variant: normal\; font-weight: 400\; text-decoration: none\; vertical-align: baseline\; white-space: pre-wrap\;">&nbsp\;&nbsp\;&nbsp\; </span><span style="background-color: transparent\; color: rgb(0\, 0\, 0)\; font-family: Calibri\,sans-serif\; font-size: 21.33px\; font-style: normal\; font-variant: normal\; font-weight: 400\; text-decoration: none\; vertical-align: baseline\; white-space: pre-wrap\;">This free presentation will help you navigate the health insurance options for your small business.&nbsp\; In our interactive workshop we&rsquo\;ll focus on the advantages of public and private insurance choices.&nbsp\;&nbsp\;</span></p>\n\n<p dir="ltr" style="background-color: transparent\; color: rgb(0\, 0\, 0)\; font-family: Times New Roman\; font-size: 16px\; font-style: normal\; font-variant: normal\; font-weight: 400\; letter-spacing: normal\; line-height: 20.72px\; margin-bottom: 10.66px\; margin-left: 48px\; margin-top: 0px\; orphans: 2\; padding-bottom: 0px\; padding-left: 96px\; padding-right: 0px\; padding-top: 0px\; text-align: left\; text-decoration: none\; text-indent: -96px\; text-transform: none\; -webkit-text-stroke-width: 0px\; white-space: normal\; word-spacing: 0px\;"><span style="background-color: transparent\; color: rgb(0\, 0\, 0)\; font-family: Calibri\,sans-serif\; font-size: 21.33px\; font-style: normal\; font-variant: normal\; font-weight: 400\; text-decoration: none\; vertical-align: baseline\; white-space: pre-wrap\;">Who:</span><span style="background-color: transparent\; color: rgb(0\, 0\, 0)\; font-family: Calibri\,sans-serif\; font-size: 21.33px\; font-style: normal\; font-variant: normal\; font-weight: 400\; text-decoration: none\; vertical-align: baseline\; white-space: pre-wrap\;">&nbsp\;&nbsp\;&nbsp\; </span><span style="background-color: transparent\; color: rgb(0\, 0\, 0)\; font-family: Calibri\,sans-serif\; font-size: 21.33px\; font-style: normal\; font-variant: normal\; font-weight: 400\; text-decoration: none\; vertical-align: baseline\; white-space: pre-wrap\;">Colorado Black Chamber\, Small Business Majority\, Connect for Health Colorado and the Colorado Consumer Health Initiative.&nbsp\;</span></p>\n
LOCATION:Diverse Business Center 444 Sherman St. Denver\, CO 80203
UID:e.825.3887
SEQUENCE:3
DTSTAMP:20260425T183010Z
URL:https://members.cbcc.biz/events/details/healthcare-what-s-next-for-small-businesses-3887
END:VEVENT

END:VCALENDAR
