BEGIN:VCALENDAR
VERSION:2.0
PRODID:-//ChamberMaster//Event Calendar 2.0//EN
METHOD:PUBLISH
X-PUBLISHED-TTL:P3D
REFRESH-INTERVAL:P3D
CALSCALE:GREGORIAN
BEGIN:VEVENT
DTSTART:20190308T153000Z
DTEND:20190308T164500Z
X-MICROSOFT-CDO-ALLDAYEVENT:FALSE
SUMMARY:International Women's Day: Celebrate Women from the African Diaspora
DESCRIPTION:A special event for women by women. Organized in collaboration with Senator Rhonda Fields and The African Chamber of Commerce Colorado
X-ALT-DESC;FMTTYPE=text/html:A special event for women by women. Organized in collaboration with Senator Rhonda Fields and The African Chamber of Commerce Colorado
LOCATION:Colorado State Capitol
UID:e.825.3655
SEQUENCE:3
DTSTAMP:20260426T021024Z
URL:https://members.cbcc.biz/events/details/international-women-s-day-celebrate-women-from-the-african-diaspora-3655
END:VEVENT

END:VCALENDAR
