BEGIN:VCALENDAR
VERSION:2.0
PRODID:-//ChamberMaster//Event Calendar 2.0//EN
METHOD:PUBLISH
X-PUBLISHED-TTL:P3D
REFRESH-INTERVAL:P3D
CALSCALE:GREGORIAN
BEGIN:VEVENT
DTSTART:20190302T140000Z
DTEND:20190302T173000Z
X-MICROSOFT-CDO-ALLDAYEVENT:FALSE
SUMMARY:Komen Colorado's 2019 Snowshoe for the Cure
DESCRIPTION:Strap on your snowshoes and join us at Susan G. Komen Colorado Snowshoe for the Cure at the Frisco Nordic Center. This fun\, family-friendly event is a Colorado experience that brings together over 1\,000 participants to stomp out breast cancer.
X-ALT-DESC;FMTTYPE=text/html:Strap on your snowshoes and join us at Susan G. Komen Colorado Snowshoe for the Cure at the Frisco Nordic Center. This fun\, family-friendly event is a Colorado experience that brings together over 1\,000 participants to stomp out breast cancer.
LOCATION:Frisco Nordic Center
UID:e.825.3566
SEQUENCE:3
DTSTAMP:20260426T020245Z
URL:https://members.cbcc.biz/events/details/komen-colorado-s-2019-snowshoe-for-the-cure-3566
END:VEVENT

END:VCALENDAR
