BEGIN:VCALENDAR
VERSION:2.0
PRODID:-//ChamberMaster//Event Calendar 2.0//EN
METHOD:PUBLISH
X-PUBLISHED-TTL:P3D
REFRESH-INTERVAL:P3D
CALSCALE:GREGORIAN
BEGIN:VEVENT
DTSTART:20161019T160000Z
DTEND:20161019T170000Z
X-MICROSOFT-CDO-ALLDAYEVENT:FALSE
SUMMARY:Leading Edge for International Opportunities
DESCRIPTION:The Leading Edge for international Opportunities program provides an educational pathway for small and medium-sized minority and women-owned business\, equipping those businesses with the knowledge and tools to develop a strategic plan for export market.\n\nThe program is combined effort between the Colorado Small Business Development Center\, the Minority Business Office (MBO)\, International Trade Office\, and the World Trade Center.
X-ALT-DESC;FMTTYPE=text/html:<div style="color: gray\;">The Leading Edge for international Opportunities program provides an educational pathway for small and medium-sized minority and women-owned business\, equipping those businesses with the knowledge and tools to develop a strategic plan for export market.<br />\nThe program is combined effort between the Colorado Small Business Development Center\, the Minority Business Office (MBO)\, International Trade Office\, and the World Trade Center.</div>\n
LOCATION:Colorado Office of Economic Development and International Trade 1625 Broadway\, Suite 2700 Denver\, CO 80202
UID:e.825.1128
SEQUENCE:3
DTSTAMP:20260420T001226Z
URL:https://members.cbcc.biz/events/details/leading-edge-for-international-opportunities-1128
END:VEVENT

END:VCALENDAR
