BEGIN:VCALENDAR
VERSION:2.0
PRODID:-//ChamberMaster//Event Calendar 2.0//EN
METHOD:PUBLISH
X-PUBLISHED-TTL:P3D
REFRESH-INTERVAL:P3D
CALSCALE:GREGORIAN
BEGIN:VEVENT
DTSTART:20190425T220000Z
DTEND:20190425T220000Z
X-MICROSOFT-CDO-ALLDAYEVENT:FALSE
SUMMARY:Legislative Business Caucus
DESCRIPTION:Bringing together the voices from the business community\n\nChair Senator Angela Williams\n\nCo-Chair Senator Jack Tate
X-ALT-DESC;FMTTYPE=text/html:Bringing together the voices from the business community<br />\nChair Senator Angela Williams<br />\nCo-Chair Senator Jack Tate<br />\n&nbsp\;
LOCATION:Senate Committee Room 354
UID:e.825.3565
SEQUENCE:3
DTSTAMP:20260426T002721Z
URL:https://members.cbcc.biz/events/details/legislative-business-caucus-04-25-2019-3565
END:VEVENT

END:VCALENDAR
