BEGIN:VCALENDAR
VERSION:2.0
PRODID:-//ChamberMaster//Event Calendar 2.0//EN
METHOD:PUBLISH
X-PUBLISHED-TTL:P3D
REFRESH-INTERVAL:P3D
CALSCALE:GREGORIAN
BEGIN:VEVENT
DTSTART:20190511T170000Z
DTEND:20190511T183000Z
X-MICROSOFT-CDO-ALLDAYEVENT:FALSE
SUMMARY:NAACP DENVER: Community Meeting: Black Women Health Matter
DESCRIPTION:Black Women Health Matter is the topic for this month's NAACP Community Meeting with a small Mother's Day Reception following the community meeting.
X-ALT-DESC;FMTTYPE=text/html:Black Women Health Matter is the topic for this month&#39\;s NAACP Community Meeting with a small Mother&#39\;s Day Reception following the community meeting.
LOCATION:New Hope Baptist Church\, 3701 Colorado Blvd\, Denver\, CO 80205\, USA
UID:e.825.3700
SEQUENCE:3
DTSTAMP:20260425T225732Z
URL:https://members.cbcc.biz/events/details/naacp-denver-community-meeting-black-women-health-matter-3700
END:VEVENT

END:VCALENDAR
