BEGIN:VCALENDAR
VERSION:2.0
PRODID:-//ChamberMaster//Event Calendar 2.0//EN
METHOD:PUBLISH
X-PUBLISHED-TTL:P3D
REFRESH-INTERVAL:P3D
CALSCALE:GREGORIAN
BEGIN:VEVENT
DTSTART:20190419T233000Z
DTEND:20190420T013000Z
X-MICROSOFT-CDO-ALLDAYEVENT:FALSE
SUMMARY:New Leaders Welcome Reception
DESCRIPTION:An exclusive CBCC reception on April 19th to welcome and honor new Black business leaders in the Colorado community. Our remarkable group of honorees represents the diverse mix of businesses in Colorado\, from fast growing local start-ups to multinational Fortune 500 companies.
X-ALT-DESC;FMTTYPE=text/html:An exclusive CBCC reception on April 19th to welcome and honor new Black business leaders in the Colorado community. Our remarkable group of honorees represents the diverse mix of businesses in Colorado\, from fast growing local start-ups to multinational Fortune 500 companies.
LOCATION:Hogan Lovells 1600 Wewatta St.\, 9th Floor Denver\, CO 80202
UID:e.825.3672
SEQUENCE:3
DTSTAMP:20260426T002752Z
URL:https://members.cbcc.biz/events/details/new-leaders-welcome-reception-04-19-2019-3672
END:VEVENT

END:VCALENDAR
