BEGIN:VCALENDAR
VERSION:2.0
PRODID:-//ChamberMaster//Event Calendar 2.0//EN
METHOD:PUBLISH
X-PUBLISHED-TTL:P3D
REFRESH-INTERVAL:P3D
CALSCALE:GREGORIAN
BEGIN:VEVENT
DTSTART:20170308T150000Z
DTEND:20170308T193000Z
X-MICROSOFT-CDO-ALLDAYEVENT:FALSE
SUMMARY:Preserving Main Street and Small Businesses
DESCRIPTION:Join the Rocky Mountain Employee Ownership Center\, Democracy at Work Institute\, and Denver's Ooffice of Economic Development\,for a half-day Workshop introduction to Employee Ownership as a succession planning \, economic development\, and community development tool.\n\n\n\nGUEST PRESENTERS \nCamille Kerr is the Associate Director of the Mass. based ICA Group\, a company that specializes in transitioning businesses to employee-owned. She is a lawyer\, business consultant\, speaker\, writer\, and advocate for the various forms of employee ownership. \n\n \n\nShevanthi Daniels is the Co-Director of Workers to Owners\, a national collaborative convened to bring employee ownership to scale through conversions of existing businesses. She is passionate about the intersection of sustainable business and economic development. Her work spans over fifteen years in community and labor organizing\, and strategic capacity building with nonprofitt and small businesses.
X-ALT-DESC;FMTTYPE=text/html:Join the Rocky Mountain Employee Ownership Center\, Democracy at Work Institute\, and Denver&rsquo\;s Ooffice of Economic Development\,for a half-day Workshop introduction to Employee Ownership as a succession planning \, economic development\, and community development tool.<br />\n<br />\nGUEST PRESENTERS&nbsp\;\n<div>Camille Kerr is the Associate Director of the Mass. based ICA Group\, a company that specializes in transitioning businesses to employee-owned. She is a lawyer\, business consultant\, speaker\, writer\, and advocate for the various forms of employee ownership.&nbsp\;</div>\n\n<div>&nbsp\;</div>\n\n<div>Shevanthi Daniels is the Co-Director of Workers to Owners\, a national collaborative convened to bring employee ownership to scale through conversions of existing businesses. She is passionate about the intersection of sustainable business and economic development. Her work spans over fifteen years in community and labor organizing\, and strategic capacity building with nonprofitt and small businesses.</div>\n
LOCATION:The Commons 1245 Champa Street\, Denver CO 80204
UID:e.825.1156
SEQUENCE:3
DTSTAMP:20260421T065040Z
URL:https://members.cbcc.biz/events/details/preserving-main-street-and-small-businesses-1156
END:VEVENT

END:VCALENDAR
